Workbook

Sheet SECRETARIA GRAL DE GOBIERNO
A1: OFICIALIA MAYOR DE GOBIERNO
A2: DIRECCION DE SERVICIOS GENERALES
A3: SUBDIRECCION DE SERVICIOS GENERALES
A5: CALCULO DEL SERVICIO DE LIMPIEZA PARA EL PERIODO DEL 16 DE MARZO AL 31 DE DICIEMBRE DE 2022
A7: SECRETARIA GENERAL DE GOBIERNO DEL ESTADO
E9: DIAS DE SERVICIO | H9: ENE | I9: FEB | J9: MAR | K9: ABR | L9: MAY | M9: JUN | N9: JUL | O9: AGO | P9: SEP | Q9: OCT | R9: NOV | S9: DIC | U9: TOTAL DIAS FEB-DIC
E10: LUNES-VIERNES | H10: 0 | I10: 0 | J10: 11 | K10: 18 | L10: 21 | M10: 22 | N10: 21 | O10: 23 | P10: 20 | Q10: 19 | R10: 20 | S10: 21 | U10: =SUM(H10:S10) -> 196
A12: PARTIDA | B12: UBICACION | C12: HORARIOS | D12: PERSONAL SOLICITADO | E12: HORAS POR DIA POR PERSONA | F12: HORAS DIARIAS POR TURNO | H12: ENE | I12: FEB | J12: MAR | K12: ABR | L12: MAY | M12: JUN | N12: JUL | O12: AGO | P12: SEP | Q12: OCT | R12: NOV | S12: DIC | U12: TOTAL HORAS
B13: MEXICALI
A14: 1 | B14: SUBSECRETARIA DE ESTUDIOS Y ASUNTOS LEGISLATIVOS (DIRECCION DE ADMINISTRACION) - PASAJE SAN MIGUEL # 1090
C15: Lunes a viernes 8.00 A 14:00 | D15: 1 | E15: 6 | F15: =D15*E15 -> 6 | H15: =+H10*F15 -> 0 | I15: =+I10*F15 -> 0 | J15: =+J10*F15 -> 66 | K15: =+K10*F15 -> 108 | L15: =$F$15*L10 -> 126 | M15: =$F$15*M10 -> 132 | N15: =$F$15*N10 -> 126 | O15: =$F$15*O10 -> 138 | P15: =$F$15*P10 -> 120 | Q15: =$F$15*Q10 -> 114 | R15: =$F$15*R10 -> 120 | S15: =$F$15*S10 -> 126 | U15: =SUM(H15:S15) -> 1176
A16: =1+A14 -> 2 | B16: DIRECCION DE REGISTRO CIVIL; PRIMER PISO EDIFICIO DEL EJECUTIVO
C17: Lunes a viernes 8.00 A 12:00 | D17: 1 | E17: 4 | F17: =D17*E17 -> 4 | H17: =+H10*F17 -> 0 | I17: =+I10*F17 -> 0 | J17: =+J10*F17 -> 44 | K17: =+K10*F17 -> 72 | L17: =$F$17*L10 -> 84 | M17: =$F$17*M10 -> 88 | N17: =$F$17*N10 -> 84 | O17: =$F$17*O10 -> 92 | P17: =$F$17*P10 -> 80 | Q17: =$F$17*Q10 -> 76 | R17: =$F$17*R10 -> 80 | S17: =$F$17*S10 -> 84 | U17: =SUM(H17:S17) -> 784
A18: =1+A16 -> 3 | B18: OFICINA DEL TITULAR, 3ER PISO EDIFICIO DEL EJECUTIVO.
C19: Lunes a viernes 8.00 A 14:00 | D19: 1 | E19: 6 | F19: =D19*E19 -> 6 | H19: =+H10*F19 -> 0 | I19: =+I10*F19 -> 0 | J19: =+J10*F19 -> 66 | K19: =+K10*F19 -> 108 | L19: =$F$19*L10 -> 126 | M19: =$F$19*M10 -> 132 | N19: =$F$19*N10 -> 126 | O19: =$F$19*O10 -> 138 | P19: =$F$19*P10 -> 120 | Q19: =$F$19*Q10 -> 114 | R19: =$F$19*R10 -> 120 | S19: =$F$19*S10 -> 126 | U19: =SUM(H19:S19) -> 1176
A20: =1+A18 -> 4 | B20: TALLERES GRFICOS DEL ESTADO, AV. MADERO NO. 1981, COLONIA NUEVA.
C21: Lunes a viernes 8:00 A 12:00 | D21: 1 | E21: 4 | F21: =D21*E21 -> 4 | H21: =+H10*F21 -> 0 | I21: =+I10*F21 -> 0 | J21: =+J10*F21 -> 44 | K21: =+K10*F21 -> 72 | L21: =$F$21*L10 -> 84 | M21: =$F$21*M10 -> 88 | N21: =$F$21*N10 -> 84 | O21: =$F$21*O10 -> 92 | P21: =$F$21*P10 -> 80 | Q21: =$F$21*Q10 -> 76 | R21: =$F$21*R10 -> 80 | S21: =$F$21*S10 -> 84 | U21: =SUM(H21:S21) -> 784
A22: =1+A20 -> 5 | B22: DIRECCION DEL ARCHIVO GENERAL DE NOTARIAS, AV. VILLA HERMOSA ESQ. NAVOLATO S/N, COL. GUAJARDO
C23: Lunes a viernes 8.00 A 12:00 | D23: 1 | E23: 4 | F23: =D23*E23 -> 4 | H23: =+H10*F23 -> 0 | I23: =+I10*F23 -> 0 | J23: =+J10*F23 -> 44 | K23: =+K10*F23 -> 72 | L23: =$F$23*L10 -> 84 | M23: =$F$23*M10 -> 88 | N23: =$F$23*N10 -> 84 | O23: =$F$23*O10 -> 92 | P23: =$F$23*P10 -> 80 | Q23: =$F$23*Q10 -> 76 | R23: =$F$23*R10 -> 80 | S23: =$F$23*S10 -> 84 | U23: =SUM(H23:S23) -> 784
R24: TOTAL MEXICALI | U24: =SUM(U14:U23) -> 4704
A26: PARTIDA | B26: UBICACION | C26: HORARIOS | D26: PERSONAL SOLICITADO | E26: HORAS POR DIA POR PERSONA | F26: HORAS DIARIAS POR TURNO | H26: ENE | I26: FEB | J26: MAR | K26: ABR | L26: MAY | M26: JUN | N26: JUL | O26: AGO | P26: SEP | Q26: OCT | R26: NOV | S26: DIC | U26: TOTAL HORAS
B27: TECATE
A28: =1+A22 -> 6 | B28: DELEGACION DE LA SECRETARIA GENERAL DE TECATE, MISION SANTO DOMINGO NO 1016 FRANCCIONAMIENTO EL DESCANSO. | H28: =+H10*F29 -> 0 | I28: =+I10*F29 -> 0 | J28: =+J10*F29 -> 44 | K28: =+K10*F29 -> 72 | L28: =$F$29*L10 -> 84 | M28: =$F$29*M10 -> 88 | N28: =$F$29*N10 -> 84 | O28: =$F$29*O10 -> 92 | P28: =$F$29*P10 -> 80 | Q28: =$F$29*Q10 -> 76 | R28: =$F$29*R10 -> 80 | S28: =$F$29*S10 -> 84 | U28: =SUM(H28:S29) -> 784
C29: Lunes a viernes 7:00 a 11:00 | D29: 1 | E29: 4 | F29: =D29*E29 -> 4
R30: TOTAL TECATE | U30: =SUM(U28:U28) -> 784
A34: PARTIDA | B34: UBICACION | C34: HORARIOS | D34: PERSONAL SOLICITADO | E34: HORAS POR DIA POR PERSONA | F34: HORAS DIARIAS POR TURNO | H34: ENE | I34: FEB | J34: MAR | K34: ABR | L34: MAY | M34: JUN | N34: JUL | O34: AGO | P34: SEP | Q34: OCT | R34: NOV | S34: DIC | U34: TOTAL HORAS
B35: ROSARITO
A36: 7 | B36: DELEGACION DE LA SECRETARIA GENERAL EN ROSARITO, CALLE JOSE HAROS AGUILAR NO 2004, FRACC. VILLA TURISTICA
C37: Lunes a viernes 7:00 a 11:00 | D37: 1 | E37: 4 | F37: =D37*E37 -> 4 | H37: =+H10*F37 -> 0 | I37: =+I10*F37 -> 0 | J37: =+J10*F37 -> 44 | K37: =+K10*F37 -> 72 | L37: =$F$37*L10 -> 84 | M37: =$F$37*M10 -> 88 | N37: =$F$37*N10 -> 84 | O37: =$F$37*O10 -> 92 | P37: =$F$37*P10 -> 80 | Q37: =$F$37*Q10 -> 76 | R37: =$F$37*R10 -> 80 | S37: =$F$37*S10 -> 84 | U37: =SUM(H37:S37) -> 784
R38: TOTAL ROSARITO | U38: =SUM(U34:U37) -> 784
A42: PARTIDA | B42: UBICACION | C42: HORARIOS | D42: PERSONAL SOLICITADO | E42: HORAS POR DIA POR PERSONA | F42: HORAS DIARIAS POR TURNO | H42: ENE | I42: FEB | J42: MAR | K42: ABR | L42: MAY | M42: JUN | N42: JUL | O42: AGO | P42: SEP | Q42: OCT | R42: NOV | S42: DIC | U42: TOTAL HORAS
B43: TIJUANA
A44: =A36+1 -> 8 | B44: CENTRO DE LA CULTURA DE LA LEGALIDAD, CALLE PERIMETRAL NO. 7125, ZONA URBANA RIO TIJUANA, 3ERA ETAPA.
C45: Lunes a viernes 7.00 A 14:00 | D45: 2 | E45: 7 | F45: =D45*E45 -> 14 | H45: =+H10*F45 -> 0 | I45: =+I10*F45 -> 0 | J45: =+J10*F45 -> 154 | K45: =+K10*F45 -> 252 | L45: =$F$45*L10 -> 294 | M45: =$F$45*M10 -> 308 | N45: =$F$45*N10 -> 294 | O45: =$F$45*O10 -> 322 | P45: =$F$45*P10 -> 280 | Q45: =$F$45*Q10 -> 266 | R45: =$F$45*R10 -> 280 | S45: =$F$45*S10 -> 294 | U45: =SUM(H45:S45) -> 2744
R46: TOTAL HORAS TIJUANA | U46: =SUM(U42:U45) -> 2744
A50: PARTIDA | B50: UBICACION | C50: HORARIOS | D50: PERSONAL SOLICITADO | E50: HORAS POR DIA POR PERSONA | F50: HORAS DIARIAS POR TURNO | H50: ENE | I50: FEB | J50: MAR | K50: ABR | L50: MAY | M50: JUN | N50: JUL | O50: AGO | P50: SEP | Q50: OCT | R50: NOV | S50: DIC | U50: TOTAL HORAS
B51: ENSENADA
A52: =1+A44 -> 9 | B52: DELEGACION DE LA SECRETARIA GENERAL DE ENSENADA, CALZ. TRANSPENINSULAR ENSENADA-LA PAZ NO 6500 EX EJIDO CHAPULTEPEC, CENTRO DE GOBIERNO ENSENADA
C53: Lunes a viernes 6.00 A 14:00 | D53: 1 | E53: 8 | F53: =D53*E53 -> 8 | H53: =+H10*F53 -> 0 | I53: =+I10*F53 -> 0 | J53: =+J10*F53 -> 88 | K53: =+K10*F53 -> 144 | L53: =$F$53*L10 -> 168 | M53: =$F$53*M10 -> 176 | N53: =$F$53*N10 -> 168 | O53: =$F$53*O10 -> 184 | P53: =$F$53*P10 -> 160 | Q53: =$F$53*Q10 -> 152 | R53: =$F$53*R10 -> 160 | S53: =$F$53*S10 -> 168 | U53: =SUM(H53:S53) -> 1568
R55: TOTAL HORAS ENSENADA | U55: =SUM(U53:U54) -> 1568
...

Sheet SECRETARIA DE HACIENDA 
A1: OFICIALIA MAYOR DE GOBIERNO
A2: DIRECCION DE SERVICIOS GENERALES
A3: SUBDIRECCION DE SERVICIOS GENERALES
A5: CALCULO DEL SERVICIO DE LIMPIEZA PARA EL PERIODO DEL 16 DE MARZO AL 31 DE DICIEMBRE DE 2022
A7: SECRETARIA DE HACIENDA DEL ESTADO
E9: DIAS DE SERVICIO | H9: ENE | I9: FEB | J9: MAR | K9: ABR | L9: MAY | M9: JUN | N9: JUL | O9: AGO | P9: SEP | Q9: OCT | R9: NOV | S9: DIC | U9: TOTAL DIAS FEB-DIC
E10: LUNES-VIERNES | H10: 0 | I10: 0 | J10: 11 | K10: 18 | L10: 21 | M10: 22 | N10: 21 | O10: 23 | P10: 20 | Q10: 19 | R10: 20 | S10: 21 | U10: =SUM(H10:S10) -> 196
E11: SABADO | H11: 0 | I11: 0 | J11: 2 | K11: 5 | L11: 4 | M11: 4 | N11: 5 | O11: 4 | P11: 4 | Q11: 5 | R11: 4 | S11: 5 | U11: =SUM(H11:S11) -> 42
E12: LUN- MIER - VIER | H12: 0 | I12: 0 | J12: 6 | K12: 12 | L12: 13 | M12: 13 | N12: 13 | O12: 14 | P12: 12 | Q12: 12 | R12: 12 | S12: 12 | U12: =SUM(H12:S12) -> 119
E13: MARTES-VIERNES | H13: 0 | I13: 0 | J13: 4 | K13: 8 | L13: 9 | M13: 8 | N13: 9 | O13: 9 | P13: 8 | Q13: 8 | R13: 8 | S13: 9 | U13: =SUM(H13:S13) -> 80
U14: =SUM(U10:U13) -> 437
A15: PARTIDA | B15: UBICACION | C15: HORARIOS | D15: PERSONAL SOLICITADO | E15: HORAS POR DIA POR PERSONA | F15: HORAS DIARIAS POR TURNO | H15: ENE | I15: FEB | J15: MAR | K15: ABR | L15: MAY | M15: JUN | N15: JUL | O15: AGO | P15: SEP | Q15: OCT | R15: NOV | S15: DIC | U15: TOTAL HORAS
B16: MEXICALI
A17: 1
B18: Recaudación Central Mexicali | C18: Lunes a viernes 7:00 a 15:00 | D18: 1 | E18: 8 | F18: =D18*E18 -> 8 | H18: =+H10*F18 -> 0 | I18: =+I10*F18 -> 0 | J18: =+J10*F18 -> 88 | K18: =+K10*F18 -> 144 | L18: =L10*F18 -> 168 | M18: =M10*F18 -> 176 | N18: =N10*F18 -> 168 | O18: =O10*F18 -> 184 | P18: =P10*F18 -> 160 | Q18: =Q10*F18 -> 152 | R18: =R10*F18 -> 160 | S18: =S10*F18 -> 168 | U18: =SUM(H18:S18) -> 1568
A19: =1+A17 -> 2
B20: Dirección de Administración | C20: Lunes a viernes 7:00 a 12:00 | D20: 1 | E20: 5 | F20: =D20*E20 -> 5 | H20: =+H10*F20 -> 0 | I20: =+I10*F20 -> 0 | J20: =+J10*F20 -> 55 | K20: =+K10*F20 -> 90 | L20: =L10*F20 -> 105 | M20: =M10*F20 -> 110 | N20: =N10*F20 -> 105 | O20: =O10*F20 -> 115 | P20: =P10*F20 -> 100 | Q20: =Q10*F20 -> 95 | R20: =R10*F20 -> 100 | S20: =S10*F20 -> 105 | U20: =SUM(H20:S20) -> 980
A21: =1+A19 -> 3 | B21: CENCAFI
C22: Lunes a viernes 8:00 a 11:00 | D22: 1 | E22: 3 | F22: =D22*E22 -> 3 | H22: =+H10*F22 -> 0 | I22: =+I10*F22 -> 0 | J22: =+J10*F22 -> 33 | K22: =+K10*F22 -> 54 | L22: =L10*F22 -> 63 | M22: =M10*F22 -> 66 | N22: =N10*F22 -> 63 | O22: =O10*F22 -> 69 | P22: =P10*F22 -> 60 | Q22: =Q10*F22 -> 57 | R22: =R10*F22 -> 60 | S22: =S10*F22 -> 63 | U22: =SUM(H22:S22) -> 588
A23: =1+A21 -> 4
B24: Area operativa, baños comunes y Depto. De Nóminas de la Dir, de Egresos | C24: Lunes a viernes 7:00 a 16:00 | D24: 1 | E24: 9 | F24: =D24*E24 -> 9 | H24: =+H10*F24 -> 0 | I24: =+I10*F24 -> 0 | J24: =+J10*F24 -> 99 | K24: =+K10*F24 -> 162 | L24: =L10*F24 -> 189 | M24: =M10*F24 -> 198 | N24: =N10*F24 -> 189 | O24: =O10*F24 -> 207 | P24: =P10*F24 -> 180 | Q24: =Q10*F24 -> 171 | R24: =R10*F24 -> 180 | S24: =S10*F24 -> 189 | U24: =SUM(H24:S24) -> 1764
A25: =1+A23 -> 5
B26: Oficina de cobro González Ortega (Palaco) | C26: Lunes, Miercoles y Viernes 10:00 a 12:00 | D26: 1 | E26: 2 | F26: =D26*E26 -> 2 | H26: =+H12*F26 -> 0 | I26: =+I12*F26 -> 0 | J26: =+J12*F26 -> 12 | K26: =+K12*F26 -> 24 | L26: =L12*F26 -> 26 | M26: =M12*F26 -> 26 | N26: =N12*F26 -> 26 | O26: =O12*F26 -> 28 | P26: =P12*F26 -> 24 | Q26: =Q12*F26 -> 24 | R26: =R12*F26 -> 24 | S26: =S12*F26 -> 24 | U26: =SUM(H26:S26) -> 238
A27: =1+A25 -> 6 | B27: Subrecaudación Auxiliar mexicali
C28: Lunes a viernes 9:00 a 18:00 | D28: 1 | E28: 9 | F28: =D28*E28 -> 9 | H28: =+H10*F28 -> 0 | I28: =+I10*F28 -> 0 | J28: =+J10*F28 -> 99 | K28: =+K10*F28 -> 162 | L28: =+L10*F28 -> 189 | M28: =M10*F28 -> 198 | N28: =N10*F28 -> 189 | O28: =O10*F28 -> 207 | P28: =P10*F28 -> 180 | Q28: =Q10*F28 -> 171 | R28: =R10*F28 -> 180 | S28: =S10*F28 -> 189 | U28: =SUM(H28:S28) -> 1764
C30: Lunes a viernes 8:00 a 14:00 | D30: 1 | E30: 6 | F30: =D30*E30 -> 6 | H30: =+H10*F30 -> 0 | I30: =+I10*F30 -> 0 | J30: =+J10*F30 -> 66 | K30: =+K10*F30 -> 108 | L30: =L10*F30 -> 126 | M30: =M10*F30 -> 132 | N30: =N10*F30 -> 126 | O30: =O10*F30 -> 138 | P30: =P10*F30 -> 120 | Q30: =Q10*F30 -> 114 | R30: =R10*F30 -> 120 | S30: =S10*F30 -> 126 | U30: =SUM(H30:S30) -> 1176
C32: sabado 9:00 a 13:00 | D32: 1 | E32: 4 | F32: =D32*E32 -> 4 | H32: =+H11*F32 -> 0 | I32: =+I11*F32 -> 0 | J32: =+J11*F32 -> 8 | K32: =+K11*F32 -> 20 | L32: =+L11*F32 -> 16 | M32: =M11*F32 -> 16 | N32: =N11*F32 -> 20 | O32: =O11*F32 -> 16 | P32: =P11*F32 -> 16 | Q32: =Q11*F32 -> 20 | R32: =R11*F32 -> 16 | S32: =S11*F32 -> 20 | U32: =SUM(H32:S32) -> 168
A33: =1+A27 -> 7
B34: Subrecaudación Auxiliar de Rentas Cd. Morelos | C34: Lunes a viernes 8:00 a 11:00 | D34: 1 | E34: 3 | F34: =D34*E34 -> 3 | H34: =+H10*F34 -> 0 | I34: =+I10*F34 -> 0 | J34: =+J10*F34 -> 33 | K34: =+K10*F34 -> 54 | L34: =+L10*F34 -> 63 | M34: =M10*F34 -> 66 | N34: =N10*F34 -> 63 | O34: =O10*F34 -> 69 | P34: =P10*F34 -> 60 | Q34: =Q10*F34 -> 57 | R34: =R10*F34 -> 60 | S34: =S10*F34 -> 63 | U34: =SUM(H34:S34) -> 588
A35: =1+A33 -> 8
B36: Subrecaudación Auxiliar de Rentas Guadalupe Victoria | C36: Lunes a viernes 8:00 a 10:00 | D36: 1 | E36: 2 | F36: =D36*E36 -> 2 | H36: =+H10*F36 -> 0 | I36: =+I10*F36 -> 0 | J36: =+J10*F36 -> 22 | K36: =+K10*F36 -> 36 | L36: =L10*F36 -> 42 | M36: =M10*F36 -> 44 | N36: =N10*F36 -> 42 | O36: =O10*F36 -> 46 | P36: =P10*F36 -> 40 | Q36: =Q10*F36 -> 38 | R36: =R10*F36 -> 40 | S36: =S10*F36 -> 42 | U36: =SUM(H36:S36) -> 392
A37: =1+A35 -> 9
B38: Subrecuadación Auxiliar San Felipe | C38: Lunes a viernes 8:00 a 10:00 | D38: 1 | E38: 2 | F38: =D38*E38 -> 2 | H38: =+H10*F38 -> 0 | I38: =+I10*F38 -> 0 | J38: =+J10*F38 -> 22 | K38: =+K10*F38 -> 36 | L38: =L10*F38 -> 42 | M38: =M10*F38 -> 44 | N38: =N10*F38 -> 42 | O38: =O10*F38 -> 46 | P38: =P10*F38 -> 40 | Q38: =Q10*F38 -> 38 | R38: =R10*F38 -> 40 | S38: =S10*F38 -> 42 | U38: =SUM(H38:S38) -> 392
A39: =1+A37 -> 10 | B39: Archivo General (CAIPE)
C40: Lunes a viernes 8:00 a 11:00 | D40: 1 | E40: 3 | F40: =D40*E40 -> 3 | H40: =+H10*F40 -> 0 | I40: =+I10*F40 -> 0 | J40: =+J10*F40 -> 33 | K40: =+K10*F40 -> 54 | L40: =L10*F40 -> 63 | M40: =M10*F40 -> 66 | N40: =N10*F40 -> 63 | O40: =O10*F40 -> 69 | P40: =P10*F40 -> 60 | Q40: =Q10*F40 -> 57 | R40: =R10*F40 -> 60 | S40: =S10*F40 -> 63 | U40: =SUM(H40:S40) -> 588
A41: 11 | B41: Subsecretaría de Tecnologías de Información y Comunicaciones
C42: Lunes a viernes 7:00 a 14:00 | D42: 1 | E42: 7 | F42: =D42*E42 -> 7 | H42: =+H10*F42 -> 0 | I42: =+I10*F42 -> 0 | J42: =+J10*F42 -> 77 | K42: =+K10*F42 -> 126 | L42: =L10*F42 -> 147 | M42: =M10*F42 -> 154 | N42: =N10*F42 -> 147 | O42: =O10*F42 -> 161 | P42: =P10*F42 -> 140 | Q42: =Q10*F42 -> 133 | R42: =R10*F42 -> 140 | S42: =S10*F42 -> 147 | U42: =SUM(H42:S42) -> 1372
A43: =1+A41 -> 12 | B43: Oficinas de la Secretaría de Hacienda 4to piso
C44: Lunes a viernes 7:00 a 14:00 | D44: 1 | E44: 7 | F44: =D44*E44 -> 7 | H44: =+H10*F44 -> 0 | I44: =+I10*F44 -> 0 | J44: =+J10*F44 -> 77 | K44: =+K10*F44 -> 126 | L44: =L10*F44 -> 147 | M44: =M10*F44 -> 154 | N44: =N10*F44 -> 147 | O44: =O10*F44 -> 161 | P44: =P10*F44 -> 140 | Q44: =Q10*F44 -> 133 | R44: =R10*F44 -> 140 | S44: =S10*F44 -> 147 | U44: =SUM(H44:S44) -> 1372
A45: =1+A43 -> 13 | B45: Procuraduría Fiscal
...

Sheet OFICIALIA MAYOR
A1: OFICIALIA MAYOR DE GOBIERNO
A2: DIRECCION DE SERVICIOS GENERALES
A3: SUBDIRECCION DE SERVICIOS GENERALES
A5: CALCULO DEL SERVICIO DE LIMPIEZA PARA EL PERIODO DEL 16 DE MARZO AL 31 DE DICIEMBRE DE 2022
A7: OFICIALIA MAYOR DE GOBIERNO
E9: DIAS DE SERVICIO | H9: ENE | I9: FEB | J9: MAR | K9: ABR | L9: MAY | M9: JUN | N9: JUL | O9: AGO | P9: SEP | Q9: OCT | R9: NOV | S9: DIC | U9: TOTAL DIAS FEB-DIC
E10: LUNES-VIERNES | H10: 0 | I10: 0 | J10: 10 | K10: 18 | L10: 21 | M10: 22 | N10: 21 | O10: 23 | P10: 20 | Q10: 19 | R10: 20 | S10: 21 | U10: =SUM(H10:S10) -> 195
E11: SABADO | H11: 0 | I11: 0 | J11: 2 | K11: 5 | L11: 4 | M11: 4 | N11: 5 | O11: 4 | P11: 4 | Q11: 5 | R11: 4 | S11: 5 | U11: =SUM(H11:S11) -> 42
E12: MIERCOLES | H12: 0 | I12: 0 | J12: 3 | K12: 4 | L12: 4 | M12: 5 | N12: 4 | O12: 5 | P12: 4 | Q12: 3 | R12: 5 | S12: 4 | U12: =SUM(H12:S12) -> 41
U13: =SUM(U10:U12) -> 278
A14: PARTIDA | B14: UBICACION | C14: HORARIOS | D14: PERSONAL SOLICITADO | E14: HORAS POR DIA POR PERSONA | F14: HORAS DIARIAS POR TURNO | H14: ENE | I14: FEB | J14: MAR | K14: ABR | L14: MAY | M14: JUN | N14: JUL | O14: AGO | P14: SEP | Q14: OCT | R14: NOV | S14: DIC | U14: TOTAL HORAS
A15: 1 | B15: Taller Mecanico
C16: Lunes a viernes 7:00 a 11:00 | D16: 1 | E16: 4 | F16: =$D$16*E16 -> 4 | H16: =+H10*F16 -> 0 | I16: =+I10*F16 -> 0 | J16: =+J10*F16 -> 40 | K16: =+K10*F16 -> 72 | L16: =$F$16*L10 -> 84 | M16: =$F$16*M10 -> 88 | N16: =$F$16*N10 -> 84 | O16: =$F$16*O10 -> 92 | P16: =$F$16*P10 -> 80 | Q16: =$F$16*Q10 -> 76 | R16: =$F$16*R10 -> 80 | S16: =$F$16*S10 -> 84 | U16: =SUM(H16:S16) -> 780
A17: =1+A15 -> 2 | B17: Archivo Historico
C18: Lunes a viernes 8:00 a 11:00 | D18: 1 | E18: 3 | F18: =D18*E18 -> 3 | H18: =+H10*F18 -> 0 | I18: =+I10*F18 -> 0 | J18: =+J10*F18 -> 30 | K18: =+K10*F18 -> 54 | L18: =$F$18*L10 -> 63 | M18: =$F$18*M10 -> 66 | N18: =$F$18*N10 -> 63 | O18: =$F$18*O10 -> 69 | P18: =$F$18*P10 -> 60 | Q18: =$F$18*Q10 -> 57 | R18: =$F$18*R10 -> 60 | S18: =$F$18*S10 -> 63 | U18: =SUM(H18:S18) -> 585
A19: =1+A17 -> 3 | B19: Oficialía Mayor de Gobierno (Tercer piso)
C20: Lunes a viernes 6:00 a 14:00 | D20: 2 | E20: 8 | F20: =D20*E20 -> 16 | H20: =+H10*F20 -> 0 | I20: =+I10*F20 -> 0 | J20: =+J10*F20 -> 160 | K20: =+K10*F20 -> 288 | L20: =$F$20*L10 -> 336 | M20: =$F$20*M10 -> 352 | N20: =$F$20*N10 -> 336 | O20: =$F$20*O10 -> 368 | P20: =$F$20*P10 -> 320 | Q20: =$F$20*Q10 -> 304 | R20: =$F$20*R10 -> 320 | S20: =$F$20*S10 -> 336 | U20: =SUM(H20:S20) -> 3120
C22: Lunes a viernes 14:00 a 18:00 | D22: 1 | E22: 4 | F22: =D22*E22 -> 4 | H22: =+H10*F22 -> 0 | I22: =+I10*F22 -> 0 | J22: =+J10*F22 -> 40 | K22: =+K10*F22 -> 72 | L22: =$F$22*L10 -> 84 | M22: =$F$22*M10 -> 88 | N22: =$F$22*N10 -> 84 | O22: =$F$22*O10 -> 92 | P22: =$F$22*P10 -> 80 | Q22: =$F$22*Q10 -> 76 | R22: =$F$22*R10 -> 80 | S22: =$F$22*S10 -> 84 | U22: =SUM(H22:S22) -> 780
B24: Bienes Patrimoniales (4to piso del ejecutivo) | C24: Lunes a viernes 8:00 a 11:00 | D24: 1 | E24: 3 | F24: =D24*E24 -> 3 | H24: =+H10*F24 -> 0 | I24: =+I10*F24 -> 0 | J24: =+J10*F24 -> 30 | K24: =+K10*F24 -> 54 | L24: =$F$24*L10 -> 63 | M24: =$F$24*M10 -> 66 | N24: =$F$24*N10 -> 63 | O24: =$F$24*O10 -> 69 | P24: =$F$24*P10 -> 60 | Q24: =$F$24*Q10 -> 57 | R24: =$F$24*R10 -> 60 | S24: =$F$24*S10 -> 63 | U24: =SUM(H24:S24) -> 585
B26: Direccion Juridica de Normatividad (2do Piso del ejecutivo) | C26: Lunes a viernes 11:00 a 13:00 | D26: 1 | E26: 2 | F26: =D26*E26 -> 2 | H26: =+H10*F26 -> 0 | I26: =+I10*F26 -> 0 | J26: =+J10*F26 -> 20 | K26: =+K10*F26 -> 36 | L26: =+L10*F26 -> 42 | M26: =+M10*F26 -> 44 | N26: =+N10*F26 -> 42 | O26: =+O10*F26 -> 46 | P26: =+P10*F26 -> 40 | Q26: =+Q10*F26 -> 38 | R26: =+R10*F26 -> 40 | S26: =+S10*F26 -> 42 | U26: =SUM(H26:S26) -> 390
B28: Prestaciones (1er Piso del ejecutivo) | C28: Lunes a viernes 9:00 a 10:00 | D28: 1 | E28: 1 | F28: =D28*E28 -> 1 | H28: =+H10*F28 -> 0 | I28: =+I10*F28 -> 0 | J28: =+J10*F28 -> 10 | K28: =+K10*F28 -> 18 | L28: =+L10*F28 -> 21 | M28: =+M10*F28 -> 22 | N28: =+N10*F28 -> 21 | O28: =+O10*F28 -> 23 | P28: =+P10*F28 -> 20 | Q28: =+Q10*F28 -> 19 | R28: =+R10*F28 -> 20 | S28: =+S10*F28 -> 21 | U28: =SUM(H28:S28) -> 195
B30: Consultorio (sotano del ejecutivo) | C30: Lunes a viernes 7:00 a 8:00 | D30: 1 | E30: 1 | F30: =D30*E30 -> 1 | H30: =+H10*F30 -> 0 | I30: =+I10*F30 -> 0 | J30: =+J10*F30 -> 10 | K30: =+K10*F30 -> 18 | L30: =+L10*F30 -> 21 | M30: =+M10*F30 -> 22 | N30: =+N10*F30 -> 21 | O30: =+O10*F30 -> 23 | P30: =+P10*F30 -> 20 | Q30: =+Q10*F30 -> 19 | R30: =+R10*F30 -> 20 | S30: =+S10*F30 -> 21 | U30: =SUM(H30:S30) -> 195
B32: Credencializacion (Sotano del ejecutivo) | C32: Lunes a viernes 8:00 a 9:00 | D32: 1 | E32: 1 | F32: =D32*E32 -> 1 | H32: =+H10*F32 -> 0 | I32: =+I10*F32 -> 0 | J32: =+J10*F32 -> 10 | K32: =+K10*F32 -> 18 | L32: =+L10*F32 -> 21 | M32: =+M10*F32 -> 22 | N32: =+N10*F32 -> 21 | O32: =+O10*F32 -> 23 | P32: =+P10*F32 -> 20 | Q32: =+Q10*F32 -> 19 | R32: =+R10*F32 -> 20 | S32: =+S10*F32 -> 21 | U32: =SUM(H32:S32) -> 195
B34: Sudireccion de Servicios Generales (sotano del Ejecutivo) | C34: Lunes a viernes 9:00 a 11:00 | D34: 1 | E34: 2 | F34: =D34*E34 -> 2 | H34: =+H10*F34 -> 0 | I34: =+I10*F34 -> 0 | J34: =+J10*F34 -> 20 | K34: =+K10*F34 -> 36 | L34: =+L10*F34 -> 42 | M34: =+M10*F34 -> 44 | N34: =+N10*F34 -> 42 | O34: =+O10*F34 -> 46 | P34: =+P10*F34 -> 40 | Q34: =+Q10*F34 -> 38 | R34: =+R10*F34 -> 40 | S34: =+S10*F34 -> 42 | U34: =SUM(H34:S34) -> 390
B36: Departamento de Mantenimiento y Conservacion (sotano del Ejecutivo) | C36: Lunes a viernes 6:00 a 8:00 | D36: 1 | E36: 2 | F36: =D36*E36 -> 2 | H36: =+H10*F36 -> 0 | I36: =+I10*F36 -> 0 | J36: =+J10*F36 -> 20 | K36: =+K10*F36 -> 36 | L36: =+L10*F36 -> 42 | M36: =+M10*F36 -> 44 | N36: =+N10*F36 -> 42 | O36: =+O10*F36 -> 46 | P36: =+P10*F36 -> 40 | Q36: =+Q10*F36 -> 38 | R36: =+R10*F36 -> 40 | S36: =+S10*F36 -> 42 | U36: =SUM(H36:S36) -> 390
B38: Archivo General (sotano del Ejecutivo) | C38: Lunes a viernes 10:00 a 12:00 | D38: 1 | E38: 2 | F38: =D38*E38 -> 2 | H38: =+H10*F38 -> 0 | I38: =+I10*F38 -> 0 | J38: =+J10*F38 -> 20 | K38: =+K10*F38 -> 36 | L38: =+L10*F38 -> 42 | M38: =+M10*F38 -> 44 | N38: =+N10*F38 -> 42 | O38: =+O10*F38 -> 46 | P38: =+P10*F38 -> 40 | Q38: =+Q10*F38 -> 38 | R38: =+R10*F38 -> 40 | S38: =+S10*F38 -> 42 | U38: =SUM(H38:S38) -> 390
B40: Magisterio (Rampa de Proveedores sotano del ejecutivo) | C40: Lunes a viernes 10:00 a 11:00 | D40: 1 | E40: 2 | F40: =D40*E40 -> 2 | H40: =+H10*F40 -> 0 | I40: =+I10*F40 -> 0 | J40: =+J10*F40 -> 20 | K40: =+K10*F40 -> 36 | L40: =+L10*F40 -> 42 | M40: =+M10*F40 -> 44 | N40: =+N10*F40 -> 42 | O40: =+O10*F40 -> 46 | P40: =+P10*F40 -> 40 | Q40: =+Q10*F40 -> 38 | R40: =+R10*F40 -> 40 | S40: =+S10*F40 -> 42 | U40: =SUM(H40:S40) -> 390
B42: Estacionamiento de 5 niveles | C42: Lunes a viernes 6:00 a 14:00 | D42: 1 | E42: 8 | F42: =D42*E42 -> 8 | H42: =+H10*F42 -> 0 | I42: =+I10*F42 -> 0 | J42: =+J10*F42 -> 80 | K42: =+K10*F42 -> 144 | L42: =+L10*F42 -> 168 | M42: =+M10*F42 -> 176 | N42: =+N10*F42 -> 168 | O42: =+O10*F42 -> 184 | P42: =+P10*F42 -> 160 | Q42: =+Q10*F42 -> 152 | R42: =+R10*F42 -> 160 | S42: =+S10*F42 -> 168 | U42: =SUM(H42:S42) -> 1560
A43: =1+A19 -> 4 | B43: Almacenes Generales del Estado
C44: Lunes a viernes 8:00 a 11:00 | D44: 1 | E44: 3 | F44: =D44*E44 -> 3 | H44: =+H10*F44 -> 0 | I44: =+I10*F44 -> 0 | J44: =+J10*F44 -> 30 | K44: =+K10*F44 -> 54 | L44: =$F$44*L10 -> 63 | M44: =$F$44*M10 -> 66 | N44: =$F$44*N10 -> 63 | O44: =$F$44*O10 -> 69 | P44: =$F$44*P10 -> 60 | Q44: =$F$44*Q10 -> 57 | R44: =$F$44*R10 -> 60 | S44: =$F$44*S10 -> 63 | U44: =SUM(H44:S44) -> 585
A45: =1+A43 -> 5 | B45: Talleres Gráficos
C46: Lunes a viernes 8:00 a 12:00 | D46: 1 | E46: 4 | F46: =D46*E46 -> 4 | H46: =+H10*F46 -> 0 | I46: =+I10*F46 -> 0 | J46: =+J10*F46 -> 40 | K46: =+K10*F46 -> 72 | L46: =$F$46*L10 -> 84 | M46: =$F$46*M10 -> 88 | N46: =$F$46*N10 -> 84 | O46: =$F$46*O10 -> 92 | P46: =$F$46*P10 -> 80 | Q46: =$F$46*Q10 -> 76 | R46: =$F$46*R10 -> 80 | S46: =$F$46*S10 -> 84 | U46: =SUM(H46:S46) -> 780
A47: =1+A45 -> 6 | B47: Edificio de Justicia Penal
C48: Lunes a viernes 6:00 a 14:00 | D48: 3 | E48: 8 | F48: =D48*E48 -> 24 | H48: =+H10*F48 -> 0 | I48: =+I10*F48 -> 0 | J48: =+J10*F48 -> 240 | K48: =+K10*F48 -> 432 | L48: =$F$48*L10 -> 504 | M48: =$F$48*M10 -> 528 | N48: =$F$48*N10 -> 504 | O48: =$F$48*O10 -> 552 | P48: =$F$48*P10 -> 480 | Q48: =$F$48*Q10 -> 456 | R48: =$F$48*R10 -> 480 | S48: =$F$48*S10 -> 504 | U48: =SUM(H48:S48) -> 4680
C50: Lunes a viernes 14:00 a 18:00 | D50: 1 | E50: 4 | F50: =D50*E50 -> 4 | H50: =+H10*F50 -> 0 | I50: =+I10*F50 -> 0 | J50: =+J10*F50 -> 40 | K50: =+K10*F50 -> 72 | L50: =$F$50*L10 -> 84 | M50: =$F$50*M10 -> 88 | N50: =$F$50*N10 -> 84 | O50: =$F$50*O10 -> 92 | P50: =$F$50*P10 -> 80 | Q50: =$F$50*Q10 -> 76 | R50: =$F$50*R10 -> 80 | S50: =$F$50*S10 -> 84 | U50: =SUM(H50:S50) -> 780
R51: TOTAL HORAS MEXICALI | U51: =SUM(U16:U50) -> 16770
A54: PARTIDA | B54: UBICACION | C54: HORARIOS | D54: PERSONAL SOLICITADO | E54: HORAS POR DIA POR PERSONA | F54: HORAS DIARIAS POR TURNO | H54: ENE | I54: FEB | J54: MAR | K54: ABR | L54: MAY | M54: JUN | N54: JUL | O54: AGO | P54: SEP | Q54: OCT | R54: NOV | S54: DIC | U54: TOTAL HORAS
B55: TIJUANA
A56: =1+A47 -> 7 | B56: Oficialía Mayor de Gobierno
C57: Lunes a viernes 7:00 a 15:00 | D57: 4 | E57: 8 | F57: =D57*E57 -> 32 | H57: =+H10*F57 -> 0 | I57: =+I10*F57 -> 0 | J57: =+J10*F57 -> 320 | K57: =+K10*F57 -> 576 | L57: =$F$57*L10 -> 672 | M57: =$F$57*M10 -> 704 | N57: =$F$57*N10 -> 672 | O57: =$F$57*O10 -> 736 | P57: =$F$57*P10 -> 640 | Q57: =$F$57*Q10 -> 608 | R57: =$F$57*R10 -> 640 | S57: =$F$57*S10 -> 672 | U57: =SUM(H57:S57) -> 6240
...

Sheet SECRETARIA DE SEGURIDAD 
A1: OFICIALIA MAYOR DE GOBIERNO
A2: DIRECCION DE SERVICIOS GENERALES
A3: SUBDIRECCION DE SERVICIOS GENERALES
A5: CALCULO DEL SERVICIO DE LIMPIEZA PARA EL PERIODO DEL 16 DE MARZO AL 31 DE DICIEMBRE DE 2022
A7: SECRETARIA DE SEGURIDAD CIUDADANA DE BAJA CALIFORNIA
E9: DIAS DE SERVICIO | H9: ENE | I9: FEB | J9: MAR | K9: ABR | L9: MAY | M9: JUN | N9: JUL | O9: AGO | P9: SEP | Q9: OCT | R9: NOV | S9: DIC | U9: TOTAL DIAS FEB-DIC
E10: LUNES A VIERNES | H10: 0 | I10: 9 | J10: 22 | K10: 18 | L10: 21 | M10: 22 | N10: 21 | O10: 23 | P10: 20 | Q10: 19 | R10: 20 | S10: 21 | U10: =SUM(H10:S10) -> 216
E11: LUNES A DOMINGO | H11: 0 | I11: 13 | J11: 30 | K11: 28 | L11: 28 | M11: 30 | N11: 31 | O11: 31 | P11: 28 | Q11: 28 | R11: 28 | S11: 27 | U11: =SUM(H11:S11) -> 302
E12: LUNES A SABADO | H12: 0 | I12: 11 | J12: 26 | K12: 24 | L12: 24 | M12: 26 | N12: 26 | O12: 27 | P12: 25 | Q12: 26 | R12: 26 | S12: 25 | U12: =SUM(H12:S12) -> 266
E13: SABADO | H13: 0 | I13: 3 | J13: 5 | K13: 4 | L13: 4 | M13: 4 | N13: 5 | O13: 4 | P13: 4 | Q13: 5 | R13: 4 | S13: 3 | U13: =SUM(H13:S13) -> 45
U14: =SUM(U10:U13) -> 829
A16: PARTIDA | B16: UBICACION | C16: HORARIOS | D16: PERSONAL SOLICITADO | E16: HORAS POR DIA POR PERSONA | F16: HORAS DIARIAS POR TURNO | H16: ENE | I16: FEB | J16: MAR | K16: ABR | L16: MAY | M16: JUN | N16: JUL | O16: AGO | P16: SEP | Q16: OCT | R16: NOV | S16: DIC | U16: TOTAL HORAS
B17: MEXICALI
A18: 1 | B18: CECC-4 | C18: Lunes a Domingo 7:00 a 15:00 | D18: 1 | E18: 8 | F18: 8 | H18: =+H11*F18 -> 0 | I18: =+I11*F18 -> 104 | J18: =+J11*F18 -> 240 | K18: =+K11*F18 -> 224 | L18: =+L11*F18 -> 224 | M18: =+M11*F18 -> 240 | N18: =+N11*F18 -> 248 | O18: =+O11*F18 -> 248 | P18: =+P11*F18 -> 224 | Q18: =+Q11*F18 -> 224 | R18: =+R11*F18 -> 224 | S18: =+S11*F18 -> 216 | U18: =SUM(H18:S18) -> 2416
C19: Lunes a Domingo 15:00 a 19:00 | D19: 1 | E19: 4 | F19: 4 | H19: =+H11*F19 -> 0 | I19: =$I12*F19 -> 44 | J19: =+J11*F19 -> 120 | K19: =+K11*F19 -> 112 | L19: =+L11*F19 -> 112 | M19: =+M11*F19 -> 120 | N19: =+N11*F19 -> 124 | O19: =+O11*F19 -> 124 | P19: =+P11*F19 -> 112 | Q19: =+Q11*F19 -> 112 | R19: =+R11*F19 -> 112 | S19: =+S11*F19 -> 108 | U19: =SUM(H19:S19) -> 1200
A20: 2 | B20: EDIFICIO ESCORPIO, AV. DE LOS HEROES Y CALLE LIBERTAD S/N, CENTRO CIVICO | C20: Lunes a viernes 07:00 a 15:00 | D20: 3 | E20: 8 | F20: 24 | H20: =+H10*F20 -> 0 | I20: =+I10*F20 -> 216 | J20: =+J10*F20 -> 528 | K20: =+K10*F20 -> 432 | L20: =+L10*F20 -> 504 | M20: =+M10*F20 -> 528 | N20: =+N10*F20 -> 504 | O20: =+O10*F20 -> 552 | P20: =+P10*F20 -> 480 | Q20: =+Q10*F20 -> 456 | R20: =+R10*F20 -> 480 | S20: =+S10*F20 -> 504 | U20: =SUM(H20:S20) -> 5184
C21: Sabado 6:00 a 10:00 | D21: 1 | E21: 4 | F21: 4 | H21: =+H13*F21 -> 0 | I21: =+I13*F21 -> 12 | J21: =+I13*F21 -> 12 | K21: =+K13*F21 -> 16 | L21: =+L13*F21 -> 16 | M21: =+M13*F21 -> 16 | N21: =+N13*F21 -> 20 | O21: =+O13*F21 -> 16 | P21: =+P13*F21 -> 16 | Q21: =+Q13*F21 -> 20 | R21: =+R13*F21 -> 16 | S21: =+S13*F21 -> 12 | U21: =SUM(H21:S21) -> 172
R22: TOTAL MEXICALI | U22: =SUM(U18:U21) -> 8972
A24: PARTIDA | B24: UBICACION | C24: HORARIOS | D24: PERSONAL SOLICITADO | E24: HORAS POR DIA POR PERSONA | F24: HORAS DIARIAS POR TURNO | H24: ENE | I24: FEB | J24: MAR | K24: ABR | L24: MAY | M24: JUN | N24: JUL | O24: AGO | P24: SEP | Q24: OCT | R24: NOV | S24: DIC | U24: TOTAL HORAS
B25: TIJUANA
A28: 3 | B28: CECC-4 | C28: Lunes a Domingo 7:00 a 15:00 | D28: 3 | E28: 8 | F28: =D28*E28 -> 24 | H28: =+H11*F28 -> 0 | I28: =+I11*F28 -> 312 | J28: =+J11*F28 -> 720 | K28: =+K11*F28 -> 672 | L28: =+L11*F28 -> 672 | M28: =+M11*F28 -> 720 | N28: =+N11*F28 -> 744 | O28: =+O11*F28 -> 744 | P28: =+P11*F28 -> 672 | Q28: =+Q11*F28 -> 672 | R28: =+R11*F28 -> 672 | S28: =+S11*F28 -> 648 | U28: =SUM(H28:S28) -> 7248
A30: 4 | B30: GUARDIA ESTATAL, ANTIGUA CARRET. LIBRE TECATE-TIJUANA KM. 15/133, COL. PIEDRAS BLANCAS, TIJUANA, B.C. | C30: Lunes a viernes 7:00 a 15:00 | D30: 4 | E30: 8 | F30: =D30*E30 -> 32 | H30: =+H10*F30 -> 0 | I30: =+I10*F30 -> 288 | J30: =+J10*F30 -> 704 | K30: =+K10*F30 -> 576 | L30: =+L10*F30 -> 672 | M30: =+M10*F30 -> 704 | N30: =$F$30*N10 -> 672 | O30: =$F$30*O10 -> 736 | P30: =$F$30*P10 -> 640 | Q30: =$F$30*Q10 -> 608 | R30: =$F$30*R10 -> 640 | S30: =$F$30*S10 -> 672 | U30: =SUM(H30:S30) -> 6912
C32: Sabado 8:00 a 12:00 | D32: 2 | E32: 4 | F32: =D32*E32 -> 8 | H32: =+H13*F32 -> 0 | I32: =+I13*F32 -> 24 | J32: =+J13*F32 -> 40 | K32: =+K13*F32 -> 32 | L32: =+L13*F32 -> 32 | M32: =+M13*F32 -> 32 | N32: =+N13*F32 -> 40 | O32: =+O13*F32 -> 32 | P32: =+P13*F32 -> 32 | Q32: =+Q13*F32 -> 40 | R32: =+R13*F32 -> 32 | S32: =+S13*F32 -> 24 | U32: =SUM(H32:S32) -> 360
R33: TOTAL TIJUANA | U33: =SUM(U28:U32) -> 14520
A35: PARTIDA | B35: UBICACION | C35: HORARIOS | D35: PERSONAL SOLICITADO | E35: HORAS POR DIA POR PERSONA | F35: HORAS DIARIAS POR TURNO | H35: ENE | I35: FEB | J35: MAR | K35: ABR | L35: MAY | M35: JUN | N35: JUL | O35: AGO | P35: SEP | Q35: OCT | R35: NOV | S35: DIC | U35: TOTAL HORAS
B36: TECATE
A38: 5 | B38: CENFOCAP, KM. 140 CARRET. LIBRE TECATE-TIJUANA | C38: Lunes a Sabado 6:00 a 14:00 | D38: 2 | E38: 8 | F38: =D38*E38 -> 16 | H38: =+H12*F38 -> 0 | I38: =+I12*F38 -> 176 | J38: =+J12*F38 -> 416 | K38: =+K12*F38 -> 384 | L38: =+L12*F38 -> 384 | M38: =+M12*F38 -> 416 | N38: =+N12*F38 -> 416 | O38: =+O12*F38 -> 432 | P38: =+P12*F38 -> 400 | Q38: =+Q12*F38 -> 416 | R38: =+R12*F38 -> 416 | S38: =+S12*Q38 -> 10400 | U38: =SUM(H38:S38) -> 14256
A40: 6 | B40: BASE GUARDIA ESTATAL, DORMITORIOS DENTRO DE CENFOCAP, KM. 140 CARRET. LIBRE TECATE-TIJUANA | C40: Lunes a Sabado 6:00 a 14:00 | D40: 1 | E40: 8 | F40: 8 | H40: =+H12*F40 -> 0 | I40: =+I12*F40 -> 88 | J40: =+J12*F40 -> 208 | K40: =+K12*F40 -> 192 | L40: =+L12*F40 -> 192 | M40: =$F$40*M12 -> 208 | N40: =$F$40*N12 -> 208 | O40: =$F$40*O12 -> 216 | P40: =$F$40*P12 -> 200 | Q40: =$F$40*Q12 -> 208 | R40: =$F$40*R12 -> 208 | S40: =$F$40*S12 -> 200 | U40: =SUM(H40:S40) -> 2128
A42: 7 | B42: CECC-4 TECATE | C42: Lunes a Sabado 6:00 a 14:00 | D42: 1 | E42: 8 | F42: =D42*E42 -> 8 | H42: =+H12*F42 -> 0 | I42: =+I12*F42 -> 88 | J42: =+J12*F42 -> 208 | K42: =+K12*F42 -> 192 | L42: =+L12*F42 -> 192 | M42: =+M12*F42 -> 208 | N42: =+N12*F42 -> 208 | O42: =+O12*F42 -> 216 | P42: =+P12*F42 -> 200 | Q42: =+Q12*F42 -> 208 | R42: =+R12*F42 -> 208 | S42: =+S12*F42 -> 200 | U42: =SUM(H42:S42) -> 2128
R43: TOTAL TECATE | U43: =SUM(U38:U42) -> 18512
A45: PARTIDA | B45: UBICACION | C45: HORARIOS | D45: PERSONAL SOLICITADO | E45: HORAS POR DIA POR PERSONA | F45: HORAS DIARIAS POR TURNO | H45: ENE | I45: FEB | J45: MAR | K45: ABR | L45: MAY | M45: JUN | N45: JUL | O45: AGO | P45: SEP | Q45: OCT | R45: NOV | S45: DIC | U45: TOTAL HORAS
B46: ROSARITO
A48: 8 | B48: CECC-4 ROSARITO | C48: Lunes a Sabado 6:00 a 14:00 | D48: 4 | E48: 8 | F48: =D48*E48 -> 32 | H48: =+H12*F48 -> 0 | I48: =+I12*F48 -> 352 | J48: =+J12*F48 -> 832 | K48: =+K12*F48 -> 768 | L48: =+L12*F48 -> 768 | M48: =+M12*F48 -> 832 | N48: =+N12*F48 -> 832 | O48: =+O12*F48 -> 864 | P48: =+P12*F48 -> 800 | Q48: =+Q12*F48 -> 832 | R48: =+R12*F48 -> 832 | S48: =+S12*F48 -> 800 | U48: =SUM(H48:S48) -> 8512
R50: TOTAL ROSARITO | U50: =SUM(U48:U49) -> 8512
D51: =D18+D19+D20+D21+D28+D30+D32+D38+D40+D42+D48 -> 23
H52: =H40+H38+H32+H30+H28+H20+H18+H42+H48+H21+H19 -> 0 | I52: =I40+I38+I32+I30+I28+I20+I18+I42+I48+I21+I19 -> 1704 | J52: =J40+J38+J32+J30+J28+J20+J18+J42+J48+J21+J19 -> 4028 | K52: =K40+K38+K32+K30+K28+K20+K18+K42+K48+K21+K19 -> 3600 | L52: =L40+L38+L32+L30+L28+L20+L18+L42+L48+L21+L19 -> 3768 | M52: =M40+M38+M32+M30+M28+M20+M18+M42+M48+M21+M19 -> 4024 | N52: =N40+N38+N32+N30+N28+N20+N18+N42+N48+N21+N19 -> 4016 | O52: =O40+O38+O32+O30+O28+O20+O18+O42+O48+O21+O19 -> 4180 | ... S52: =S40+S38+S32+S30+S28+S20+S18+S42+S48+S21+S19 -> 13784 | U52: =SUM(H52:T52) -> 50516
I56: RESUMEN SECRETARIA DE SEGURIDAD CIUDADANA
I58: PARTIDAS | K58: PERSONAL SOLICITADO | M58: TOTAL HORAS
I59: MEXICALI | K59: =D18+D20+D19+D21 -> 6 | M59: =U22 -> 8972
I60: TIJUANA | K60: =D26+D28+D30+D32 -> 9 | M60: =U33 -> 14520
...

Sheet CONSEJERIA JURIDICA
A1: OFICIALIA MAYOR DE GOBIERNO
A2: DIRECCION DE SERVICIOS GENERALES
A3: SUBDIRECCION DE SERVICIOS GENERALES
A5: CALCULO DEL SERVICIO DE LIMPIEZA PARA EL PERIODO DEL 16 DE MARZO AL 31 DE DICIEMBRE DE 2022
A7: CONSEJERIA JURIDICA
E9: DIAS DE SERVICIO | H9: ENE | I9: FEB | J9: MAR | K9: ABR | L9: MAY | M9: JUN | N9: JUL | O9: AGO | P9: SEP | Q9: OCT | R9: NOV | S9: DIC | U9: TOTAL DIAS FEB-DIC
E10: LUNES-VIERNES | H10: 0 | I10: 0 | J10: 10 | K10: 18 | L10: 21 | M10: 22 | N10: 21 | O10: 23 | P10: 20 | Q10: 19 | R10: 20 | S10: 21 | U10: =SUM(H10:S10) -> 195
A12: PARTIDA | B12: UBICACION | C12: HORARIOS | D12: PERSONAL SOLICITADO | E12: HORAS POR DIA POR PERSONA | F12: HORAS DIARIAS POR TURNO | H12: ENE | I12: FEB | J12: MAR | K12: ABR | L12: MAY | M12: JUN | N12: JUL | O12: AGO | P12: SEP | Q12: OCT | R12: NOV | S12: DIC | U12: TOTAL HORAS
B13: MEXICALI
A14: 1 | B14: CONSEJERIA JURIDICA DEL ESTADO, SEGUNDO PISO, EDIFICIO DEL EJECUTIVO
C15: Lunes a viernes 8.00 A 13:00 | D15: 1 | E15: 5 | F15: =D15*E15 -> 5 | H15: =+H10*F15 -> 0 | I15: =+I10*F15 -> 0 | J15: =+J10*F15 -> 50 | K15: =+K10*F15 -> 90 | L15: =$F$15*L10 -> 105 | M15: =$F$15*M10 -> 110 | N15: =$F$15*N10 -> 105 | O15: =$F$15*O10 -> 115 | P15: =$F$15*P10 -> 100 | Q15: =$F$15*Q10 -> 95 | R15: =$F$15*R10 -> 100 | S15: =$F$15*S10 -> 105 | U15: =SUM(H15:S15) -> 975
A16: =1+A14 -> 2 | B16: DIRECCION DE PROYECTOS LEGISLATIVOS, SEGUNDO PISO, EDIFICIO DEL EJECUTIVO
C17: Lunes a viernes 8.00 A 13:00 | D17: 1 | E17: 5 | F17: =D17*E17 -> 5 | H17: =+H10*F17 -> 0 | I17: =+I10*F17 -> 0 | J17: =+J10*F17 -> 50 | K17: =+K10*F17 -> 90 | L17: =$F$17*L10 -> 105 | M17: =$F$17*M10 -> 110 | N17: =$F$17*N10 -> 105 | O17: =$F$17*O10 -> 115 | P17: =$F$17*P10 -> 100 | Q17: =$F$17*Q10 -> 95 | R17: =$F$17*R10 -> 100 | S17: =$F$17*S10 -> 105 | U17: =SUM(H17:S17) -> 975
A18: =1+A16 -> 3 | B18: DIRECCION JURIDICA CONTENCIOSA, SEGUNDO PISO, EDIFICIO DEL EJECUTIVO
C19: Lunes a viernes 8.00 A 13:00 | D19: 1 | E19: 5 | F19: =D19*E19 -> 5 | H19: =+H10*F19 -> 0 | I19: =+I10*F19 -> 0 | J19: =+J10*F19 -> 50 | K19: =+K10*F19 -> 90 | L19: =$F$19*L10 -> 105 | M19: =$F$19*M10 -> 110 | N19: =$F$19*N10 -> 105 | O19: =$F$19*O10 -> 115 | P19: =$F$19*P10 -> 100 | Q19: =$F$19*Q10 -> 95 | R19: =$F$19*R10 -> 100 | S19: =$F$19*S10 -> 105 | U19: =SUM(H19:S19) -> 975
A20: =1+A18 -> 4 | B20: DEFENSORIA PUBLICA CENTRO DE JUSTICIA PENAL, CALZADA DE LOS PRESIDENTES (RIO NUEVO)
C21: Lunes a viernes 8:00 A 13:00 | D21: 1 | E21: 5 | F21: =D21*E21 -> 5 | H21: =+H10*F21 -> 0 | I21: =+I10*F21 -> 0 | J21: =+J10*F21 -> 50 | K21: =+K10*F21 -> 90 | L21: =$F$21*L10 -> 105 | M21: =$F$21*M10 -> 110 | N21: =$F$21*N10 -> 105 | O21: =$F$21*O10 -> 115 | P21: =$F$21*P10 -> 100 | Q21: =$F$21*Q10 -> 95 | R21: =$F$21*R10 -> 100 | S21: =$F$21*S10 -> 105 | U21: =SUM(H21:S21) -> 975
A22: =1+A20 -> 5 | B22: DEFENSORIA PUBLICA CERESO, CALLE SUR S/N, COL. BELLAVISTA
C23: Lunes a viernes 8.00 A 13:00 | D23: 1 | E23: 5 | F23: =D23*E23 -> 5 | H23: =+H10*F23 -> 0 | I23: =+I10*F23 -> 0 | J23: =+J10*F23 -> 50 | K23: =+K10*F23 -> 90 | L23: =$F$23*L10 -> 105 | M23: =$F$23*M10 -> 110 | N23: =$F$23*N10 -> 105 | O23: =$F$23*O10 -> 115 | P23: =$F$23*P10 -> 100 | Q23: =$F$23*Q10 -> 95 | R23: =$F$23*R10 -> 100 | S23: =$F$23*S10 -> 105 | U23: =SUM(H23:S23) -> 975
R24: TOTAL MEXICALI | U24: =SUM(U14:U23) -> 4875
A26: PARTIDA | B26: UBICACION | C26: HORARIOS | D26: PERSONAL SOLICITADO | E26: HORAS POR DIA POR PERSONA | F26: HORAS DIARIAS POR TURNO | H26: ENE | I26: FEB | J26: MAR | K26: ABR | L26: MAY | M26: JUN | N26: JUL | O26: AGO | P26: SEP | Q26: OCT | R26: NOV | S26: DIC | U26: TOTAL HORAS
B27: TECATE
A28: =1+A22 -> 6 | B28: CARRETERA TIJUANA-TECATE KM. 1.5 PASO DEL ÁGUILA, C.P.21440 | H28: =+H10*F29 -> 0 | I28: =+I10*F29 -> 0 | J28: =+J10*F29 -> 50 | K28: =+K10*F29 -> 90 | L28: =$F$29*L10 -> 105 | M28: =$F$29*M10 -> 110 | N28: =$F$29*N10 -> 105 | O28: =$F$29*O10 -> 115 | P28: =$F$29*P10 -> 100 | Q28: =$F$29*Q10 -> 95 | R28: =$F$29*R10 -> 100 | S28: =$F$29*S10 -> 105 | U28: =SUM(H28:S29) -> 975
C29: Lunes a viernes 8:00 A 13:00 | D29: 1 | E29: 5 | F29: =D29*E29 -> 5
R30: TOTAL TECATE | U30: =SUM(U28:U28) -> 975
A33: PARTIDA | B33: UBICACION | C33: HORARIOS | D33: PERSONAL SOLICITADO | E33: HORAS POR DIA POR PERSONA | F33: HORAS DIARIAS POR TURNO | H33: ENE | I33: FEB | J33: MAR | K33: ABR | L33: MAY | M33: JUN | N33: JUL | O33: AGO | P33: SEP | Q33: OCT | R33: NOV | S33: DIC | U33: TOTAL HORAS
B34: ROSARITO
A35: 7 | B35: CALLE JOSÉ HAROS 2004, FRACC. VILLA TURISTICA, SEGUNDO PISO
C36: Lunes a viernes 8:00 a 13:00 | D36: 1 | E36: 5 | F36: =D36*E36 -> 5 | H36: =+H10*F36 -> 0 | I36: =+I10*F36 -> 0 | J36: =+J10*F36 -> 50 | K36: =+K10*F36 -> 90 | L36: =$F$36*L10 -> 105 | M36: =$F$36*M10 -> 110 | N36: =$F$36*N10 -> 105 | O36: =$F$36*O10 -> 115 | P36: =$F$36*P10 -> 100 | Q36: =$F$36*Q10 -> 95 | R36: =$F$36*R10 -> 100 | S36: =$F$36*S10 -> 105 | U36: =SUM(H36:S36) -> 975
R37: TOTAL ROSARITO | U37: =SUM(U33:U36) -> 975
A40: PARTIDA | B40: UBICACION | C40: HORARIOS | D40: PERSONAL SOLICITADO | E40: HORAS POR DIA POR PERSONA | F40: HORAS DIARIAS POR TURNO | H40: ENE | I40: FEB | J40: MAR | K40: ABR | L40: MAY | M40: JUN | N40: JUL | O40: AGO | P40: SEP | Q40: OCT | R40: NOV | S40: DIC | U40: TOTAL HORAS
B41: TIJUANA
A42: =A35+1 -> 8 | B42: CALLE QUINTA 7951, ENTRE AV. NIÑOS HÉROES Y F. MARTÍNEZ, ZONA CENTRO, C.P. 22000
C43: Lunes a viernes 8.00 A 13:00 | D43: 1 | E43: 5 | F43: =D43*E43 -> 5 | H43: =+H10*F43 -> 0 | I43: =+I10*F43 -> 0 | J43: =+J10*F43 -> 50 | K43: =+K10*F43 -> 90 | L43: =$F$43*L10 -> 105 | M43: =$F$43*M10 -> 110 | N43: =$F$43*N10 -> 105 | O43: =$F$43*O10 -> 115 | P43: =$F$43*P10 -> 100 | Q43: =$F$43*Q10 -> 95 | R43: =$F$43*R10 -> 100 | S43: =$F$43*S10 -> 105 | U43: =SUM(H43:S43) -> 975
R44: TOTAL TIJUANA | U44: =SUM(U40:U43) -> 975
A47: PARTIDA | B47: UBICACION | C47: HORARIOS | D47: PERSONAL SOLICITADO | E47: HORAS POR DIA POR PERSONA | F47: HORAS DIARIAS POR TURNO | H47: ENE | I47: FEB | J47: MAR | K47: ABR | L47: MAY | M47: JUN | N47: JUL | O47: AGO | P47: SEP | Q47: OCT | R47: NOV | S47: DIC | U47: TOTAL HORAS
B48: ENSENADA
A49: =1+A42 -> 9 | B49: CALLE NOVENA E INSURGENTES 1192 COL. BUSTAMANTE, C.P. 22840
C50: Lunes a viernes 8.00 A 13:00 | D50: 1 | E50: 5 | F50: =D50*E50 -> 5 | H50: =+H10*F50 -> 0 | I50: =+I10*F50 -> 0 | J50: =+J10*F50 -> 50 | K50: =+K10*F50 -> 90 | L50: =$F$50*L10 -> 105 | M50: =$F$50*M10 -> 110 | N50: =$F$50*N10 -> 105 | O50: =$F$50*O10 -> 115 | P50: =$F$50*P10 -> 100 | Q50: =$F$50*Q10 -> 95 | R50: =$F$50*R10 -> 100 | S50: =$F$50*S10 -> 105 | U50: =SUM(H50:S50) -> 975
R52: TOTAL ENSENADA | U52: =SUM(U50:U51) -> 975
...

Sheet SECRETARIA DE INTEGRACION SIBSO
A1: OFICIALIA MAYOR DE GOBIERNO
A2: DIRECCION DE SERVICIOS GENERALES
A3: SUBDIRECCION DE SERVICIOS GENERALES
A5: CALCULO DEL SERVICIO DE LIMPIEZA PARA EL PERIODO DEL 16 DE MARZO AL 31 DE DICIEMBRE DE 2022
A7: SECRETARIA DE INTEGRACION Y BIENESTAR SOCIAL
E9: DIAS DE SERVICIO | H9: ENE | I9: FEB | J9: MAR | K9: ABR | L9: MAY | M9: JUN | N9: JUL | O9: AGO | P9: SEP | Q9: OCT | R9: NOV | S9: DIC | U9: TOTAL DIAS FEB-DIC
E10: LUNES-VIERNES | H10: 0 | I10: 0 | J10: 10 | K10: 18 | L10: 21 | M10: 22 | N10: 21 | O10: 23 | P10: 20 | Q10: 19 | R10: 20 | S10: 21 | U10: =SUM(H10:S10) -> 195
E11: LUNES, MIERCOLES Y VIERNES | H11: 0 | I11: 0 | J11: 6 | K11: 12 | L11: 13 | M11: 13 | N11: 13 | O11: 14 | P11: 12 | Q11: 12 | R11: 12 | S11: 12 | U11: =SUM(H11:S11) -> 119
E12: MARTES Y JUEVES | H12: 0 | I12: 0 | J12: 5 | K12: 7 | L12: 8 | M12: 9 | N12: 8 | O12: 9 | P12: 8 | Q12: 7 | R12: 8 | S12: 9 | U12: =SUM(H12:S12) -> 78
E13: MARTES Y VIERNES | H13: 0 | I13: 0 | J13: 4 | K13: 8 | L13: 9 | M13: 8 | N13: 9 | O13: 9 | P13: 8 | Q13: 8 | R13: 8 | S13: 9 | U13: =SUM(H13:S13) -> 80
U14: =SUM(U10:U13) -> 472
A16: PARTIDA | B16: UBICACION | C16: HORARIOS | D16: PERSONAL SOLICITADO | E16: HORAS POR DIA POR PERSONA | F16: HORAS DIARIAS POR TURNO | H16: ENE | I16: FEB | J16: MAR | K16: ABR | L16: MAY | M16: JUN | N16: JUL | O16: AGO | P16: SEP | Q16: OCT | R16: NOV | S16: DIC | U16: TOTAL HORAS
B17: MEXICALI
A18: 1 | B18: OFICINA CENTRAL MEXICALI | C18: Lunes a viernes 6:00 a 12:00 | D18: 1 | E18: 6 | F18: =D18*E18 -> 6 | H18: =+H10*F18 -> 0 | I18: =+I10*F18 -> 0 | J18: =+J10*F18 -> 60 | K18: =+K10*F18 -> 108 | L18: =+L10*F18 -> 126 | M18: =+M10*F18 -> 132 | N18: =$F$18*N10 -> 126 | O18: =$F$18*O10 -> 138 | P18: =$F$18*P10 -> 120 | Q18: =$F$18*Q10 -> 114 | R18: =$F$18*R10 -> 120 | S18: =$F$18*S10 -> 126 | U18: =SUM(H18:S18) -> 1170
A20: 2 | B20: EXTERNA COL. GUAJARDO | C20: Martes y Viernes 8:00 a 10:00 | D20: 1 | E20: 2 | F20: =D20*E20 -> 2 | H20: =+H13*F20 -> 0 | I20: =+I13*F20 -> 0 | J20: =+J13*F20 -> 8 | K20: =+K13*F20 -> 16 | L20: =$F$20*L13 -> 18 | M20: =+M13*F20 -> 16 | N20: =+N13*F20 -> 18 | O20: =+O13*F20 -> 18 | P20: =+P13*F20 -> 16 | Q20: =+Q13*F20 -> 16 | R20: =+R13*F20 -> 16 | S20: =+S13*F20 -> 18 | U20: =SUM(H20:S20) -> 160
A22: 3 | B22: PLAZA BAJA CALIFORNIA (LOCAL 1-A) CALLE CALAFIA No. 1115. | C22: Lunes, Miercoles y Viernes 8:00 a 10:00 | D22: 1 | E22: 2 | F22: =D22*E22 -> 2 | H22: =+H11*F22 -> 0 | I22: =+I11*F22 -> 0 | J22: =+J11*F22 -> 12 | K22: =+K11*F22 -> 24 | L22: =+L11*F22 -> 26 | M22: =+M11*F22 -> 26 | N22: =$N$11*F22 -> 26 | O22: =$O$11*F22 -> 28 | P22: =$P$11*F22 -> 24 | Q22: =$Q$11*F22 -> 24 | R22: =$R$11*F22 -> 24 | S22: =$S$11*F22 -> 24 | U22: =SUM(H22:S22) -> 238
R23: SUMA MEXICALI | U23: =SUM(U18:U22) -> 1568
A25: PARTIDA | B25: UBICACION | C25: HORARIOS | D25: PERSONAL SOLICITADO | E25: HORAS POR DIA POR PERSONA | F25: HORAS DIARIAS POR TURNO | H25: ENE | I25: FEB | J25: MAR | K25: ABR | L25: MAY | M25: JUN | N25: JUL | O25: AGO | P25: SEP | Q25: OCT | R25: NOV | S25: DIC | U25: TOTAL HORAS
B26: TECATE
A27: 4 | B27: OFICINAS DE GOBIERNO TECATE | C27: Lunes, Miercoles y Viernes 8:00 a 10:00 | D27: 1 | E27: 2 | F27: =D27*E27 -> 2 | H27: =+H11*F27 -> 0 | I27: =+I11*F27 -> 0 | J27: =+J11*F27 -> 12 | K27: =+K11*F27 -> 24 | L27: =+L11*F27 -> 26 | M27: =$F$27*M11 -> 26 | N27: =$F$27*N11 -> 26 | O27: =$F$27*O11 -> 28 | P27: =$F$27*P11 -> 24 | Q27: =$F$27*Q11 -> 24 | R27: =$F$27*R11 -> 24 | S27: =$F$27*S11 -> 24 | U27: =SUM(H27:S27) -> 238
R28: SUMA TECATE | U28: =SUM(U27) -> 238
A30: PARTIDA | B30: UBICACION | C30: HORARIOS | D30: PERSONAL SOLICITADO | E30: HORAS POR DIA POR PERSONA | F30: HORAS DIARIAS POR TURNO | H30: ENE | I30: FEB | J30: MAR | K30: ABR | L30: MAY | M30: JUN | N30: JUL | O30: AGO | P30: SEP | Q30: OCT | R30: NOV | S30: DIC | U30: TOTAL HORAS
B31: ENSENADA
A32: 5 | B32: OFICINAS DE GOBIERNO ENSENADA | C32: Lunes, Miercoles y Viernes 8:00 a 10:00 | D32: 1 | E32: 2 | F32: =D32*E32 -> 2 | H32: =+H11*F32 -> 0 | I32: =+I11*F32 -> 0 | J32: =+J11*F32 -> 12 | K32: =+K11*F32 -> 24 | L32: =+L11*F32 -> 26 | M32: =+M11*F32 -> 26 | N32: =+N11*F32 -> 26 | O32: =+O11*F32 -> 28 | P32: =+P11*F32 -> 24 | Q32: =+Q11*F32 -> 24 | R32: =+R11*F32 -> 24 | S32: =+S11*F32 -> 24 | U32: =SUM(H32:S32) -> 238
R33: SUMA ENSENADA | U33: =SUM(U32) -> 238
A35: PARTIDA | B35: UBICACION | C35: HORARIOS | D35: PERSONAL SOLICITADO | E35: HORAS POR DIA POR PERSONA | F35: HORAS DIARIAS POR TURNO | H35: ENE | I35: FEB | J35: MAR | K35: ABR | L35: MAY | M35: JUN | N35: JUL | O35: AGO | P35: SEP | Q35: OCT | R35: NOV | S35: DIC | U35: TOTAL HORAS
B36: ROSARITO
A37: 6 | B37: OFICINAS DE GOBIERNO ROSARITO | C37: Martes y Jueves 8:00 a 10:00 | D37: 1 | E37: 2 | F37: =D37*E37 -> 2 | H37: =+H12*F37 -> 0 | I37: =+I12*F37 -> 0 | J37: =+J12*F37 -> 10 | K37: =+K12*F37 -> 14 | L37: =+L12*F37 -> 16 | M37: =$F$37*M12 -> 18 | N37: =$F$37*N12 -> 16 | O37: =$F$37*O12 -> 18 | P37: =$F$37*P12 -> 16 | Q37: =$F$37*Q12 -> 14 | R37: =$F$37*R12 -> 16 | S37: =$F$37*S12 -> 18 | U37: =SUM(H37:S37) -> 156
R38: SUMA ROSARITO | U38: =SUM(U37) -> 156
A40: PARTIDA | B40: UBICACION | C40: HORARIOS | D40: PERSONAL SOLICITADO | E40: HORAS POR DIA POR PERSONA | F40: HORAS DIARIAS POR TURNO | H40: ENE | I40: FEB | J40: MAR | K40: ABR | L40: MAY | M40: JUN | N40: JUL | O40: AGO | P40: SEP | Q40: OCT | R40: NOV | S40: DIC | U40: TOTAL HORAS
B41: TIJUANA
A42: 7 | B42: OFICINAS DE GOBIERNO TIJUANA (WORDL TRADE CENTER 5TO PISO) | C42: Lunes a viernes 8:00 a 11:00 | D42: 1 | E42: 3 | F42: =D42*E42 -> 3 | H42: =+H10*F42 -> 0 | I42: =+I10*F42 -> 0 | J42: =+J10*F42 -> 30 | K42: =+K10*F42 -> 54 | L42: =+L10*F42 -> 63 | M42: =+M10*F42 -> 66 | N42: =+N10*F42 -> 63 | O42: =+O10*F42 -> 69 | P42: =+P10*F42 -> 60 | Q42: =+Q10*F42 -> 57 | R42: =+R10*F42 -> 60 | S42: =+S10*F42 -> 63 | U42: =SUM(H42:S42) -> 585
A44: 8 | B44: OFICINAS DE GOBIERNO TIJUANA (PLAZA PATRIA) | C44: Lunes a viernes 8:00 a 11:00 | D44: 1 | E44: 3 | F44: =D44*E44 -> 3 | H44: =+H10*F44 -> 0 | I44: =+I10*F44 -> 0 | J44: =+J10*F44 -> 30 | K44: =+K10*F44 -> 54 | L44: =+L10*F44 -> 63 | M44: =+M10*F44 -> 66 | N44: =+N10*F44 -> 63 | O44: =+O10*F44 -> 69 | P44: =+P10*F44 -> 60 | Q44: =+Q10*F44 -> 57 | R44: =+R10*F44 -> 60 | S44: =+S10*F44 -> 63 | U44: =SUM(H44:S44) -> 585
A46: 9 | B46: OFICINAS DE GOBIERNO TIJUANA (DIF ZONA RIO TERCERA ETAPA) | C46: Martes y viernes 8:00 a 10:00 | D46: 1 | E46: 2 | F46: =D46*E46 -> 2 | H46: =+H13*F46 -> 0 | I46: =+I13*F46 -> 0 | J46: =+J13*F46 -> 8 | K46: =+K13*F46 -> 16 | L46: =+L13*F46 -> 18 | M46: =+M13*F46 -> 16 | N46: =+N13*F46 -> 18 | O46: =+O13*F46 -> 18 | P46: =+P13*F46 -> 16 | Q46: =+Q13*F46 -> 16 | R46: =+R13*F46 -> 16 | S46: =+S13*F46 -> 18 | U46: =SUM(H46:S46) -> 160
R47: SUMA TIJUANA | U47: =SUM(U42:U46) -> 1330
D49: =SUM(D17:D48) -> 9 | R49: SUMA ESTATAL | U49: =SUM(U47,U38,U28,U23,U33) -> 3530
H51: =H18+H27+H20+H46+H37+H32+H44+H42+H22 -> 0 | I51: =I18+I27+I20+I46+I37+I32+I44+I42+I22 -> 0 | J51: =J18+J27+J20+J46+J37+J32+J44+J42+J22 -> 182 | K51: =K18+K27+K20+K46+K37+K32+K44+K42+K22 -> 334 | L51: =L18+L27+L20+L46+L37+L32+L44+L42+L22 -> 382 | M51: =M18+M27+M20+M46+M37+M32+M44+M42+M22 -> 392 | N51: =N18+N27+N20+N46+N37+N32+N44+N42+N22 -> 382 | O51: =O18+O27+O20+O46+O37+O32+O44+O42+O22 -> 414 | ... S51: =S18+S27+S20+S46+S37+S32+S44+S42+S22 -> 378 | U51: =SUM(H51:S51) -> 3530
K55: RESUMEN SECRETARIA DE INTEGRACION
I58: PARTIDAS | L58: PERSONAL SOLICITADO | N58: TOTAL HORAS
I59: MEXICALI | L59: =+D18+D20+D22 -> 3 | N59: =U23 -> 1568
...

Sheet SECRETARIA DE INCLUSION
A1: OFICIALIA MAYOR DE GOBIERNO
A2: DIRECCION DE SERVICIOS GENERALES
A3: SUBDIRECCION DE SERVICIOS GENERALES
A5: CALCULO DEL SERVICIO DE LIMPIEZA PARA EL PERIODO DEL 16 DE MARZO AL 31 DE DICIEMBRE DE 2022
A7: SECRETARIA DE INCLUSION SOCIAL E IGUALDAD DE GENERO
E9: DIAS DE SERVICIO | H9: ENE | I9: FEB | J9: MAR | K9: ABR | L9: MAY | M9: JUN | N9: JUL | O9: AGO | P9: SEP | Q9: OCT | R9: NOV | S9: DIC | U9: TOTAL DIAS FEB-DIC
E10: LUNES-VIERNES | H10: 0 | I10: 0 | J10: 10 | K10: 18 | L10: 21 | M10: 22 | N10: 21 | O10: 23 | P10: 20 | Q10: 19 | R10: 20 | S10: 21 | U10: =SUM(H10:S10) -> 195
U11: =SUM(U10:U10) -> 195
A13: PARTIDA | B13: UBICACION | C13: HORARIOS | D13: PERSONAL SOLICITADO | E13: HORAS POR DIA POR PERSONA | F13: HORAS DIARIAS POR TURNO | H13: ENE | I13: FEB | J13: MAR | K13: ABR | L13: MAY | M13: JUN | N13: JUL | O13: AGO | P13: SEP | Q13: OCT | R13: NOV | S13: DIC | U13: TOTAL HORAS
B14: MEXICALI
A15: 1 | B15: EDIFICIO DEL PODER EJECUTIVO 2do PISO | C15: Lunes a viernes 8:00 a 12:00 | D15: 1 | E15: 4 | F15: =D15*E15 -> 4 | H15: =+H10*F15 -> 0 | I15: =+I10*F15 -> 0 | J15: =+J10*F15 -> 40 | K15: =+K10*F15 -> 72 | L15: =$F$15*L10 -> 84 | M15: =$F$15*M10 -> 88 | N15: =$F$15*N10 -> 84 | O15: =$F$15*O10 -> 92 | P15: =$F$15*P10 -> 80 | Q15: =$F$15*Q10 -> 76 | R15: =$F$15*R10 -> 80 | S15: =$F$15*S10 -> 84 | U15: =SUM(H15:S15) -> 780
R16: TOTAL HORAS MEXICALI | U16: =SUM(U15:U15) -> 780
A18: PARTIDA | B18: UBICACION | C18: HORARIOS | D18: PERSONAL SOLICITADO | E18: HORAS POR DIA POR PERSONA | F18: HORAS DIARIAS POR TURNO | H18: ENE | I18: FEB | J18: MAR | K18: ABR | L18: MAY | M18: JUN | N18: JUL | O18: AGO | P18: SEP | Q18: OCT | R18: NOV | S18: DIC | U18: TOTAL HORAS
B19: TIJUANA
A20: 2 | B20: PLAZA PATRIA | C20: Lunes a viernes 8:00 a 10:00 | D20: 1 | E20: 2 | F20: =D20*E20 -> 2 | H20: =+H10*F20 -> 0 | I20: =+I10*F20 -> 0 | J20: =+J10*F20 -> 20 | K20: =+K10*F20 -> 36 | L20: =$F$20*L10 -> 42 | M20: =$F$20*M10 -> 44 | N20: =$F$20*N10 -> 42 | O20: =$F$20*O10 -> 46 | P20: =$F$20*P10 -> 40 | Q20: =$F$20*Q10 -> 38 | R20: =$F$20*R10 -> 40 | S20: =$F$20*S10 -> 42 | U20: =SUM(H20:S20) -> 390
R21: TOTAL DE HORAS TIJUANA | U21: =SUM(U20:U20) -> 390
A24: PARTIDA | B24: UBICACION | C24: HORARIOS | D24: PERSONAL SOLICITADO | E24: HORAS POR DIA POR PERSONA | F24: HORAS DIARIAS POR TURNO | H24: ENE | I24: FEB | J24: MAR | K24: ABR | L24: MAY | M24: JUN | N24: JUL | O24: AGO | P24: SEP | Q24: OCT | R24: NOV | S24: DIC | U24: TOTAL HORAS
B25: ENSENADA
A26: 3 | B26: CENTRO DE GOBIERNO DEL ESTADO | C26: Lunes a viernes 8:00 a 12:00 | D26: 1 | E26: 4 | F26: =D26*E26 -> 4 | H26: =+H10*F26 -> 0 | I26: =+I10*F26 -> 0 | J26: =+J10*F26 -> 40 | K26: =+K10*F26 -> 72 | L26: =+L10*F26 -> 84 | M26: =+M10*F26 -> 88 | N26: =+N10*F26 -> 84 | O26: =+O10*F26 -> 92 | P26: =+P10*F26 -> 80 | Q26: =+Q10*F26 -> 76 | R26: =+R10*F26 -> 80 | S26: =+S10*F26 -> 84 | U26: =SUM(H26:S26) -> 780
R27: TOTAL HORAS ENSENADA | U27: =SUM(U26:U26) -> 780
A29: PARTIDA | B29: UBICACION | C29: HORARIOS | D29: PERSONAL SOLICITADO | E29: HORAS POR DIA POR PERSONA | F29: HORAS DIARIAS POR TURNO | H29: ENE | I29: FEB | J29: MAR | K29: ABR | L29: MAY | M29: JUN | N29: JUL | O29: AGO | P29: SEP | Q29: OCT | R29: NOV | S29: DIC | U29: TOTAL HORAS
B30: SAN QUINTIN
A31: 4 | B31: CENTRO DE GOBIERNO DEL ESTADO | C31: Lunes a viernes 8:00 a 10:00 | D31: 1 | E31: 2 | F31: =D31*E31 -> 2 | H31: =+H10*F31 -> 0 | I31: =+I10*F31 -> 0 | J31: =+J10*F31 -> 20 | K31: =+K10*F31 -> 36 | L31: =+L10*F31 -> 42 | M31: =+M10*F31 -> 44 | N31: =+N10*F31 -> 42 | O31: =+O10*F31 -> 46 | P31: =+P10*F31 -> 40 | Q31: =+Q10*F31 -> 38 | R31: =+R10*F31 -> 40 | S31: =+S10*F31 -> 42 | U31: =SUM(H31:S31) -> 390
R32: TOTAL HORAS SAN QUINTIN | U32: =SUM(U31:U31) -> 390
C34: TOTAL EMPLEADOS | D34: =D15+D20+D26+D31 -> 4 | R34: TOTAL DE HORAS ESTATAL | U34: =U16+U21+U27+U32 -> 2340
H36: =H15+H20+H26+H31 -> 0 | I36: =I15+I20+I26+I31 -> 0 | J36: =J15+J20+J26+J31 -> 120 | K36: =K15+K20+K26+K31 -> 216 | L36: =L15+L20+L26+L31 -> 252 | M36: =M15+M20+M26+M31 -> 264 | N36: =N15+N20+N26+N31 -> 252 | O36: =O15+O20+O26+O31 -> 276 | ... S36: =S15+S20+S26+S31 -> 252 | U36: =SUM(H36:S36) -> 2340
K40: RESUMEN SECRETARIA DE INCLUSION
J42: PARTIDAS | L42: PERSONAL SOLICITADO | M42: TOTAL HORAS
J43: MEXICALI | L43: =D15 -> 1 | M43: =U16 -> 780
J44: TIJUANA | L44: =D20 -> 1 | M44: =U21 -> 390
J45: ENSENADA | L45: =D26 -> 1 | M45: =U27 -> 780
J46: SAN QUINTIN | L46: =D31 -> 1 | M46: =U32 -> 390
J47: TOTALES | L47: =SUM(L43:L46) -> 4 | M47: =SUM(M43:M46) -> 2340

Sheet SECRETARIA DE ECONOMIA
A1: OFICIALIA MAYOR DE GOBIERNO
A2: DIRECCION DE SERVICIOS GENERALES
A3: SUBDIRECCION DE SERVICIOS GENERALES
A5: CALCULO DEL SERVICIO DE LIMPIEZA PARA EL PERIODO DEL 16 DE MARZO AL 31 DE DICIEMBRE DE 2022
A7: SECRETARIA DE ECONOMIA E INNOVACION
E9: DIAS DE SERVICIO | H9: ENE | I9: FEB | J9: MAR | K9: ABR | L9: MAY | M9: JUN | N9: JUL | O9: AGO | P9: SEP | Q9: OCT | R9: NOV | S9: DIC | U9: TOTAL DIAS FEB-DIC
E10: LUNES A VIERNES | H10: 0 | I10: 0 | J10: 10 | K10: 18 | L10: 21 | M10: 22 | N10: 21 | O10: 23 | P10: 20 | Q10: 19 | R10: 20 | S10: 21 | U10: =SUM(H10:S10) -> 195
E11: LUNES, MIERCOLES Y VIERNES | H11: 0 | I11: 0 | J11: 6 | K11: 12 | L11: 13 | M11: 13 | N11: 13 | O11: 14 | P11: 12 | Q11: 12 | R11: 12 | S11: 12 | U11: =SUM(H11:S11) -> 119
E12: MARTES Y JUEVES | H12: 0 | I12: 0 | J12: 5 | K12: 7 | L12: 8 | M12: 9 | N12: 8 | O12: 9 | P12: 8 | Q12: 7 | R12: 8 | S12: 9 | U12: =SUM(H12:S12) -> 78
E13: LUNES Y VIERNES | H13: 0 | I13: 0 | J13: 4 | K13: 8 | L13: 9 | M13: 8 | N13: 9 | O13: 9 | P13: 8 | Q13: 9 | R13: 7 | S13: 8 | U13: =SUM(H13:S13) -> 79
E14: MARTES | H14: 0 | I14: 0 | J14: 2 | K14: 4 | L14: 5 | M14: 4 | N14: 4 | O14: 5 | P14: 4 | Q14: 4 | R14: 4 | S14: 4 | U14: =SUM(H14:S14) -> 40
U15: =SUM(U10:U14) -> 511
A17: PARTIDA | B17: UBICACION | C17: HORARIOS | D17: PERSONAL SOLICITADO | E17: HORAS POR DIA POR PERSONA | F17: HORAS DIARIAS POR TURNO | H17: ENE | I17: FEB | J17: MAR | K17: ABR | L17: MAY | M17: JUN | N17: JUL | O17: AGO | P17: SEP | Q17: OCT | R17: NOV | S17: DIC | U17: TOTAL HORAS
B18: MEXICALI
A19: 1 | B19: SECRETARIA DE ECONOMIA SUSTENTABLE Y TURISMO . BLV. BENITO JUAREZ #1 COL. ESTEBAN CANTU (TURISMO) | C19: Lunes a viernes 7:00 a 13:00 | D19: 0 | E19: 0 | F19: =D19*E19 -> 0 | H19: =+H10*F19 -> 0 | I19: =+I10*F19 -> 0 | J19: =+J10*F19 -> 0 | K19: =+K10*F19 -> 0 | L19: =$F$19*L10 -> 0 | M19: =$F$19*M10 -> 0 | N19: =$F$19*N10 -> 0 | O19: =$F$19*O10 -> 0 | P19: =$F$19*P10 -> 0 | Q19: =$F$19*Q10 -> 0 | R19: =$F$19*R10 -> 0 | S19: =$F$19*S10 -> 0 | U19: =SUM(H19:S19) -> 0 | V19: 60.5 | W19: =U19*V19 -> 0 | X19: =W19 -> 0
A21: 1 | B21: SECRETARIA DE ECONOMIA, EDIFICIO DEL PODER EJECUTIVO 4to/2do PISO | C21: Lunes a viernes 9:00 a 17:00 | D21: 1 | E21: 8 | F21: =D21*E21 -> 8 | H21: =+H10*F21 -> 0 | I21: =+I10*F21 -> 0 | J21: =+J10*F21 -> 80 | K21: =+K10*F21 -> 144 | L21: =$F$21*L10 -> 168 | M21: =$F$21*M10 -> 176 | N21: =$F$21*N10 -> 168 | O21: =$F$21*O10 -> 184 | P21: =$F$21*P10 -> 160 | Q21: =$F$21*Q10 -> 152 | R21: =$F$21*R10 -> 160 | S21: =$F$21*S10 -> 168 | U21: =SUM(H21:S21) -> 1560
R22: TOTAL MEXICALI | U22: =SUM(U19:U21) -> 1560
A24: PARTIDA | B24: UBICACION | C24: HORARIOS | D24: PERSONAL SOLICITADO | E24: HORAS POR DIA POR PERSONA | F24: HORAS DIARIAS POR TURNO | H24: ENE | I24: FEB | J24: MAR | K24: ABR | L24: MAY | M24: JUN | N24: JUL | O24: AGO | P24: SEP | Q24: OCT | R24: NOV | S24: DIC | U24: TOTAL HORAS
B25: TIJUANA
A28: 2 | B28: SRIA, DE ECONOMIA SUSTENTABLE Y TURISMO, LABORATORIO DE CALIDAD DE AIRE, CALLE SUR Y CALLE 2 OESTE, COL. INDUSTRIAL OTAY | C28: Martes y Jueves 7:00 a 15:00 | D28: 1 | E28: 8 | F28: =D28*E28 -> 8 | H28: =+H12*F28 -> 0 | I28: =+I12*F28 -> 0 | J28: =+J12*F28 -> 40 | K28: =+K12*F28 -> 56 | L28: =$F$28*L12 -> 64 | M28: =$F$28*M12 -> 72 | N28: =$F$28*N12 -> 64 | O28: =$F$28*O12 -> 72 | P28: =$F$28*P12 -> 64 | Q28: =$F$28*Q12 -> 56 | R28: =$F$28*R12 -> 64 | S28: =$F$28*S12 -> 72 | U28: =SUM(H28:S28) -> 624
A30: 3 | B30: SECRETARIA DE ECONOMIA SUSTENTABLE Y TURISMO, CALLE XAVIER VILLAURRUTIA No 1271. ZONA RIO, CANACO | C30: Lunes a viernes 7:00 a 15:00 | D30: 1 | E30: 8 | F30: =D30*E30 -> 8 | H30: =+H10*F30 -> 0 | I30: =+I10*F30 -> 0 | J30: =+J10*F30 -> 80 | K30: =+K10*F30 -> 144 | L30: =+L10*F30 -> 168 | M30: =+M10*F30 -> 176 | N30: =$F$30*N10 -> 168 | O30: =$F$30*O10 -> 184 | P30: =$F$30*P10 -> 160 | Q30: =$F$30*Q10 -> 152 | R30: =$F$30*R10 -> 160 | S30: =$F$30*S10 -> 168 | U30: =SUM(H30:S30) -> 1560
A32: 4 | B32: CONSORCIO TECNOLOGICO CARRETERA LIBRE TIJUANA-TECATE KM. 126.4, ESQ. BLVD. NOGALES, EL FLORIDO, OFICINAS DEL COCIT. | C32: Lunes a viernes 7:00 a 15:00 | D32: 1 | E32: 8 | F32: =D32*E32 -> 8 | H32: =+H10*F32 -> 0 | I32: =+I10*F32 -> 0 | J32: =+J10*F32 -> 80 | K32: =+K10*F32 -> 144 | L32: =+L10*F32 -> 168 | M32: =+M10*F32 -> 176 | N32: =+N10*F32 -> 168 | O32: =+O10*F32 -> 184 | P32: =+P10*F32 -> 160 | Q32: =+Q10*F32 -> 152 | R32: =+R10*F32 -> 160 | S32: =+S10*F32 -> 168 | U32: =SUM(H32:S32) -> 1560
R33: TOTAL TIJUANA | U33: =SUM(U28:U32) -> 3744
A35: PARTIDA | B35: UBICACION | C35: HORARIOS | D35: PERSONAL SOLICITADO | E35: HORAS POR DIA POR PERSONA | F35: HORAS DIARIAS POR TURNO | H35: ENE | I35: FEB | J35: MAR | K35: ABR | L35: MAY | M35: JUN | N35: JUL | O35: AGO | P35: SEP | Q35: OCT | R35: NOV | S35: DIC | U35: TOTAL HORAS
B36: ENSENADA
A38: 5 | B38: SECRETARIA DE ECONOMIA SUSTENTABLE Y TURISMO OFICINA DE PESCA, CENTRO DE GOBIERNO | C38: Lunes y viernes 7:00 a 15:00 | D38: 1 | E38: 8 | F38: =D38*E38 -> 8 | H38: =+H13*F38 -> 0 | I38: =+I13*F38 -> 0 | J38: =+J13*F38 -> 32 | K38: =+K13*F38 -> 64 | L38: =+L13*F38 -> 72 | M38: =$F$38*M13 -> 64 | N38: =$F$38*N13 -> 72 | O38: =$F$38*O13 -> 72 | P38: =$F$38*P13 -> 64 | Q38: =$F$38*Q13 -> 72 | R38: =$F$38*R13 -> 56 | S38: =$F$38*S13 -> 64 | U38: =SUM(H38:S38) -> 632
A40: 6 | B40: SECRETARIA DE ECONOMIA SUSTENTABLE Y TURISMO OFICINA DE MEDIO AMBIENTE, CENTRO DE GOBIERNO DEL ESTADO | C40: Martes 7:00 a 15:00 | D40: 1 | E40: 8 | F40: =D40*E40 -> 8 | H40: =+H14*F40 -> 0 | I40: =+I14*F40 -> 0 | J40: =+J14*F40 -> 16 | K40: =+K14*F40 -> 32 | L40: =$F$40*L14 -> 40 | M40: =$F$40*M14 -> 32 | N40: =$F$40*N14 -> 32 | O40: =$F$40*O14 -> 40 | P40: =$F$40*P14 -> 32 | Q40: =$F$40*Q14 -> 32 | R40: =$F$40*R14 -> 32 | S40: =$F$40*S14 -> 32 | U40: =SUM(H40:S40) -> 320
A42: 7 | B42: SUBSECRETARIA DE PESCA | C42: Lunes, Miercoles y Virnes 7:00 a 15:00 | D42: 0 | E42: 0 | F42: =D42*E42 -> 0 | H42: =+H11*F42 -> 0 | I42: =+I11*F42 -> 0 | J42: =+J11*F42 -> 0 | K42: =+K11*F42 -> 0 | L42: =+L11*F42 -> 0 | M42: =+M11*F42 -> 0 | N42: =+N11*F42 -> 0 | O42: =+O11*F42 -> 0 | P42: =+P11*F42 -> 0 | Q42: =+Q11*F42 -> 0 | R42: =+R11*F42 -> 0 | S42: =+S11*F42 -> 0 | U42: =SUM(H42:S42) -> 0 | V42: 60.5 | W42: =U42*V42 -> 0 | X42: =X40+W42 -> 0
R43: TOTAL ENSENADA | U43: =SUM(U38:U42) -> 952
D45: =SUM(D21:D44) -> 6 | R45: TOTAL ESTATAL | U45: =U22+U33+U43 -> 6256
H47: =H40+H38+H32+H30+H28+H21 -> 0 | I47: =I40+I38+I32+I30+I28+I21 -> 0 | J47: =J40+J38+J32+J30+J28+J21 -> 328 | K47: =K40+K38+K32+K30+K28+K21 -> 584 | L47: =L40+L38+L32+L30+L28+L21 -> 680 | M47: =M40+M38+M32+M30+M28+M21 -> 696 | N47: =N40+N38+N32+N30+N28+N21 -> 672 | O47: =O40+O38+O32+O30+O28+O21 -> 736 | ... S47: =S40+S38+S32+S30+S28+S21 -> 672 | U47: =SUM(H47:T47) -> 6256
M51: RESUMEN SECRETARIA DE ECONOMIA
I53: PARTIDAS | K53: PERSONAL SOLICITADO | M53: TOTAL HORAS
I54: MEXICALI | K54: =D19+D21 -> 1 | M54: =U22 -> 1560
I55: TIJUANA | K55: =D26+D28+D30+D32 -> 3 | M55: =U33 -> 3744
I56: ENSENADA | K56: =D38+D40+D42 -> 2 | M56: =U43 -> 952
I57: TOTALES | K57: =SUM(K54:K56) -> 6 | M57: =SUM(M54:M56) -> 6256

Sheet SECRETARIA DEL TRABAJO
A1: OFICIALIA MAYOR DE GOBIERNO
A2: DIRECCION DE SERVICIOS GENERALES
A3: SUBDIRECCION DE SERVICIOS GENERALES
A5: CALCULO DEL SERVICIO DE LIMPIEZA PARA EL PERIODO DEL 16 DE MARZO AL 31 DE DICIEMBRE DE 2022
A7: SECRETARIA DEL TRABAJO Y PREVISION SOCIAL
E9: DIAS DE SERVICIO | H9: ENE | I9: FEB | J9: MAR | K9: ABR | L9: MAY | M9: JUN | N9: JUL | O9: AGO | P9: SEP | Q9: OCT | R9: NOV | S9: DIC | U9: TOTAL DIAS FEB A DIC
E10: LUNES-VIERNES | H10: 0 | I10: 0 | J10: 10 | K10: 18 | L10: 21 | M10: 22 | N10: 21 | O10: 23 | P10: 20 | Q10: 19 | R10: 20 | S10: 21 | U10: =SUM(H10:S10) -> 195
A13: PARTIDA | B13: UBICACION | C13: HORARIOS | D13: PERSONAL SOLICITADO | E13: HORAS POR DIA POR PERSONA | F13: HORAS DIARIAS POR TURNO | H13: ENE | I13: FEB | J13: MAR | K13: ABR | L13: MAY | M13: JUN | N13: JUL | O13: AGO | P13: SEP | Q13: OCT | R13: NOV | S13: DIC | U13: TOTAL HORAS
B14: MEXICALI
A15: 1 | B15: SERVICIO NACIONAL DEL EMPLEO AV. PIONEROS Y CALLE CALAFIA #1100 CENTRO CIVICO | C15: Lunes a viernes 6:00 a 12:00 | D15: 1 | E15: 6 | F15: =D15*E15 -> 6 | H15: =+H10*F15 -> 0 | I15: =+I10*F15 -> 0 | J15: =+J10*F15 -> 60 | K15: =+K10*F15 -> 108 | L15: =$F$15*L10 -> 126 | M15: =$F$15*M10 -> 132 | N15: =$F$15*N10 -> 126 | O15: =$F$15*O10 -> 138 | P15: =$F$15*P10 -> 120 | Q15: =$F$15*Q10 -> 114 | R15: =$F$15*R10 -> 120 | S15: =$F$15*S10 -> 126 | U15: =SUM(H15:S15) -> 1170
A16: 2 | B16: SECRETARIA DEL TRABAJO Y PREVISION SOCIAL | C16: Lunes a viernes 6:00 a 12:00 | D16: 2 | E16: 6 | F16: =D16*E16 -> 12 | H16: =+H10*F16 -> 0 | I16: =+I10*F16 -> 0 | J16: =+J10*F16 -> 120 | K16: =+K10*F16 -> 216 | L16: =+L10*F16 -> 252 | M16: =+M10*F16 -> 264 | N16: =+N10*F16 -> 252 | O16: =+O10*F16 -> 276 | P16: =+P10*F16 -> 240 | Q16: =+Q10*F16 -> 228 | R16: =+R10*F16 -> 240 | S16: =+S10*F16 -> 252 | U16: =SUM(H16:T16) -> 2340
